Workbook

Sheet Stats Coachs
D1: Coach | E1: Saison | F1: J | G1: G | I1: N | K1: P | M1: BP | N1: BC | O1: Buteurs | Q1: Passeurs | U1: Coach | V1: Saison | W1: J | X1: G | Z1: N | AB1: P | AD1: BP | AE1: BC | AF1: Buteurs | AH1: Passeurs
A2: =IF(ISBLANK(D2),A1,D2) -> Cla | B2: =VLOOKUP(C2,'Stats consolidées'!$B:$C,2,0) -> TRUE | C2: Saison 25-26 | D2: Cla | E2: 2025/26 | F2: 20 | G2: 0 | H2: =G2/F2 -> 0 | I2: 2 | J2: =I2/F2 -> 0.1 | K2: 18 | L2: =K2/F2 -> 0.9 | M2: 25 | N2: 70 | O2: Rod | P2: 13 | Q2: Leo | R2: 3 | S2: =A2 -> Cla | U2: Thib | V2: 2022/23 | W2: 20 | X2: 9 | Y2: =X2/W2 -> 0.45 | Z2: 6 | AA2: =Z2/W2 -> 0.3 | AB2: 5 | AC2: =AB2/W2 -> 0.25 | AD2: 62 | AE2: 38 | AF2: Rod | AG2: 11 | AH2: Thib | AI2: 10
A3: =IF(ISBLANK(D3),A2,D3) -> Cla | B3: =VLOOKUP(C3,'Stats consolidées'!$B:$C,2,0) -> TRUE | C3: Saison 24-25 | E3: 2024/25 | F3: 25 | G3: 16 | H3: =G3/F3 -> 0.64 | I3: 4 | J3: =I3/F3 -> 0.16 | K3: 5 | L3: =K3/F3 -> 0.2 | M3: 84 | N3: 37 | O3: Rod | P3: 28 | Q3: Thib | R3: 14 | S3: =A3 -> Cla | V3: 2021/22 | W3: 19 | X3: 12 | Y3: =X3/W3 -> 0.63157895 | Z3: 2 | AA3: =Z3/W3 -> 0.10526316 | AB3: 5 | AC3: =AB3/W3 -> 0.26315789 | AD3: 59 | AE3: 43 | AF3: Bobo | AG3: 12 | AH3: Thib | AI3: 15
A4: =IF(ISBLANK(D4),A3,D4) -> Cla | B4: =VLOOKUP(C4,'Stats consolidées'!$B:$C,2,0) -> TRUE | C4: Saison 23-24 | E4: 2023/24 | F4: 22 | G4: 11 | H4: =G4/F4 -> 0.5 | I4: 4 | J4: =I4/F4 -> 0.18181818 | K4: 7 | L4: =K4/F4 -> 0.31818182 | M4: 60 | N4: 36 | O4: Rod | P4: 20 | Q4: Anto | R4: 6 | S4: =A4 -> Cla | V4: 2020/21 | W4: 5 | X4: 1 | Y4: =X4/W4 -> 0.2 | Z4: 1 | AA4: =Z4/W4 -> 0.2 | AB4: 3 | AC4: =AB4/W4 -> 0.6 | AD4: 7 | AE4: 16 | AF4: Alfred | AG4: 2 | AH4: Thib | AI4: 1
A5: =IF(ISBLANK(D5),A4,D5) -> Cla | E5: Total | F5: =SUM(F1:F4) -> 67 | G5: =SUM(G1:G4) -> 27 | H5: =G5/F5 -> 0.40298507 | I5: =SUM(I1:I4) -> 10 | J5: =I5/F5 -> 0.14925373 | K5: =SUM(K1:K4) -> 30 | L5: =K5/F5 -> 0.44776119 | M5: =SUM(M1:M4) -> 169 | N5: =SUM(N1:N4) -> 143 | V5: 2013/14 | W5: 27 | X5: 9 | Y5: =X5/W5 -> 0.33333333 | Z5: 2 | AA5: =Z5/W5 -> 0.074074074 | AB5: 16 | AC5: =AB5/W5 -> 0.59259259 | AD5: 61 | AE5: 78 | AF5: Seb | AG5: 9 | AH5: Thib | AI5: 8
A6: =IF(ISBLANK(D6),A5,D6) -> Thib | B6: =VLOOKUP(C6,'Stats consolidées'!$B:$C,2,0) -> TRUE | C6: Saison 22-23 | D6: Thib | E6: 2022/23 | F6: 21 | G6: 9 | H6: =G6/F6 -> 0.42857143 | I6: 6 | J6: =I6/F6 -> 0.28571429 | K6: 6 | L6: =K6/F6 -> 0.28571429 | M6: 64 | N6: 44 | O6: Rod | P6: 13 | Q6: Thib | R6: 10 | S6: =A6 -> Thib | V6: 2012/13 | W6: 24 | X6: 6 | Y6: =X6/W6 -> 0.25 | Z6: 5 | AA6: =Z6/W6 -> 0.20833333 | AB6: 13 | AC6: =AB6/W6 -> 0.54166667 | AD6: 40 | AE6: 62 | AF6: Will | AG6: 13 | AH6: Thib | AI6: 5
A7: =IF(ISBLANK(D7),A6,D7) -> Thib | B7: =VLOOKUP(C7,'Stats consolidées'!$B:$C,2,0) -> TRUE | C7: Saison 21-22 | E7: 2021/22 | F7: 19 | G7: 12 | H7: =G7/F7 -> 0.63157895 | I7: 2 | J7: =I7/F7 -> 0.10526316 | K7: 5 | L7: =K7/F7 -> 0.26315789 | M7: 59 | N7: 43 | O7: Bobo | P7: 12 | Q7: Thib | R7: 15 | S7: =A7 -> Thib | V7: 2011/12 | W7: 25 | X7: 17 | Y7: =X7/W7 -> 0.68 | Z7: 4 | AA7: =Z7/W7 -> 0.16 | AB7: 4 | AC7: =AB7/W7 -> 0.16 | AD7: 60 | AE7: 37 | AF7: Thib | AG7: 18 | AH7: Thib | AI7: 15
A8: =IF(ISBLANK(D8),A7,D8) -> Thib | B8: =VLOOKUP(C8,'Stats consolidées'!$B:$C,2,0) -> TRUE | C8: Saison 20-21 | E8: 2020/21 | F8: 5 | G8: 1 | H8: =G8/F8 -> 0.2 | I8: 1 | J8: =I8/F8 -> 0.2 | K8: 3 | L8: =K8/F8 -> 0.6 | M8: 7 | N8: 16 | O8: Alfred | P8: 2 | Q8: Thib | R8: 1 | S8: =A8 -> Thib | V8: 2010/11 | W8: 22 | X8: 12 | Y8: =X8/W8 -> 0.54545455 | Z8: 4 | AA8: =Z8/W8 -> 0.18181818 | AB8: 6 | AC8: =AB8/W8 -> 0.27272727 | AD8: 47 | AE8: 32 | AF8: Baz | AG8: 11 | AH8: Thib | AI8: 13
A9: =IF(ISBLANK(D9),A8,D9) -> Thib | E9: Total | F9: =SUM(F6:F8) -> 45 | G9: =SUM(G6:G8) -> 22 | H9: =G9/F9 -> 0.48888889 | I9: =SUM(I6:I8) -> 9 | J9: =I9/F9 -> 0.2 | K9: =SUM(K6:K8) -> 14 | L9: =K9/F9 -> 0.31111111 | M9: =SUM(M6:M8) -> 130 | N9: =SUM(N6:N8) -> 103 | S9: =A9 -> Thib | V9: 2009/10 | W9: 22 | X9: 13 | Y9: =X9/W9 -> 0.59090909 | Z9: 3 | AA9: =Z9/W9 -> 0.13636364 | AB9: 6 | AC9: =AB9/W9 -> 0.27272727 | AD9: 52 | AE9: 29 | AF9: Seb | AG9: 16 | AH9: Baz | AI9: 8
A10: =IF(ISBLANK(D10),A9,D10) -> PB | B10: =VLOOKUP(C10,'Stats consolidées'!$B:$C,2,0) -> TRUE | C10: Saison 19-20 | D10: PB | E10: 2019/20 | F10: 13 | G10: 4 | H10: =G10/F10 -> 0.30769231 | I10: 5 | J10: =I10/F10 -> 0.38461538 | K10: 4 | L10: =K10/F10 -> 0.30769231 | M10: 29 | N10: 28 | O10: Bobo | P10: 7 | Q10: Thib | R10: 4 | S10: =A10 -> PB | V10: 2008/09 | W10: 21 | X10: 8 | Y10: =X10/W10 -> 0.38095238 | Z10: 2 | AA10: =Z10/W10 -> 0.095238095 | AB10: 11 | AC10: =AB10/W10 -> 0.52380952 | AD10: 44 | AE10: 34 | AF10: Thib | AG10: 15 | AH10: Thib | AI10: 11
A11: =IF(ISBLANK(D11),A10,D11) -> PB | B11: =VLOOKUP(C11,'Stats consolidées'!$B:$C,2,0) -> TRUE | C11: Saison 18-19 | E11: 2018/19 | F11: 18 | G11: 10 | H11: =G11/F11 -> 0.55555556 | I11: 2 | J11: =I11/F11 -> 0.11111111 | K11: 6 | L11: =K11/F11 -> 0.33333333 | M11: 57 | N11: 34 | O11: Thib | P11: 13 | Q11: Thib | R11: 16 | S11: =A11 -> PB | V11: 2007/08 | W11: 19 | X11: 10 | Y11: =X11/W11 -> 0.52631579 | Z11: 4 | AA11: =Z11/W11 -> 0.21052632 | AB11: 5 | AC11: =AB11/W11 -> 0.26315789 | AD11: 43 | AE11: 34 | AF11: Thib | AG11: 18 | AH11: Thib | AI11: 9
A12: =IF(ISBLANK(D12),A11,D12) -> PB | B12: =VLOOKUP(C12,'Stats consolidées'!$B:$C,2,0) -> TRUE | C12: Saison 17-18 | E12: 2017/18 | F12: 24 | G12: 4 | H12: =G12/F12 -> 0.16666667 | I12: 5 | J12: =I12/F12 -> 0.20833333 | K12: 15 | L12: =K12/F12 -> 0.625 | M12: 33 | N12: 64 | O12: Thib | P12: 8 | Q12: Thib | R12: 5 | S12: =A12 -> PB | V12: 2007 | W12: 11 | X12: 6 | Y12: =X12/W12 -> 0.54545455 | Z12: 2 | AA12: =Z12/W12 -> 0.18181818 | AB12: 3 | AC12: =AB12/W12 -> 0.27272727 | AD12: 36 | AE12: 22 | AF12: Thib | AG12: 14 | AH12: Thib | AI12: 10
A13: =IF(ISBLANK(D13),A12,D13) -> PB | E13: Total | F13: =SUM(F10:F12) -> 55 | G13: =SUM(G10:G12) -> 18 | H13: =G13/F13 -> 0.32727273 | I13: =SUM(I10:I12) -> 12 | J13: =I13/F13 -> 0.21818182 | K13: =SUM(K10:K12) -> 25 | L13: =K13/F13 -> 0.45454545 | M13: =SUM(M10:M12) -> 119 | N13: =SUM(N10:N12) -> 126 | S13: =A13 -> PB | U13: Total | W13: =SUM(W2:W12) -> 215 | X13: =SUM(X2:X12) -> 103 | Y13: =X13/W13 -> 0.47906977 | Z13: =SUM(Z2:Z12) -> 35 | AA13: =Z13/W13 -> 0.1627907 | AB13: =SUM(AB2:AB12) -> 77 | AC13: =AB13/W13 -> 0.35813953 | AD13: =SUM(AD2:AD12) -> 511 | AE13: =SUM(AE2:AE12) -> 425
A14: =IF(ISBLANK(D14),A13,D14) -> Antoine | B14: =VLOOKUP(C14,'Stats consolidées'!$B:$C,2,0) -> TRUE | C14: Saison 16-17 | D14: Antoine | E14: 2016/17 | F14: 24 | G14: 8 | H14: =G14/F14 -> 0.33333333 | I14: 5 | J14: =I14/F14 -> 0.20833333 | K14: 11 | L14: =K14/F14 -> 0.45833333 | M14: 52 | N14: 50 | O14: Anto | P14: 12 | Q14: Thib | R14: 12 | S14: =A14 -> Antoine
A15: =IF(ISBLANK(D15),A14,D15) -> Antoine | E15: Total | F15: 24 | G15: 8 | H15: =G15/F15 -> 0.33333333 | I15: 5 | J15: =I15/F15 -> 0.20833333 | K15: 11 | L15: =K15/F15 -> 0.45833333 | M15: 52 | N15: 50 | S15: =A15 -> Antoine
A16: =IF(ISBLANK(D16),A15,D16) -> Kevin | B16: =VLOOKUP(C16,'Stats consolidées'!$B:$C,2,0) -> TRUE | C16: Saison 15-16 | D16: Kevin | E16: 2015/16 | F16: 25 | G16: 8 | H16: =G16/F16 -> 0.32 | I16: 3 | J16: =I16/F16 -> 0.12 | K16: 14 | L16: =K16/F16 -> 0.56 | M16: 42 | N16: 65 | O16: Baz | P16: 8 | Q16: Thib | R16: 15 | S16: =A16 -> Kevin
A17: =IF(ISBLANK(D17),A16,D17) -> Kevin | B17: =VLOOKUP(C17,'Stats consolidées'!$B:$C,2,0) -> TRUE | C17: Saison 14-15 | E17: 2014/15 | F17: 23 | G17: 6 | H17: =G17/F17 -> 0.26086957 | I17: 4 | J17: =I17/F17 -> 0.17391304 | K17: 13 | L17: =K17/F17 -> 0.56521739 | M17: 51 | N17: 62 | O17: Coelio | P17: 14 | Q17: Thib | R17: 15 | S17: =A17 -> Kevin
A18: =IF(ISBLANK(D18),A17,D18) -> Kevin | E18: Total | F18: =SUM(F16:F17) -> 48 | G18: =SUM(G16:G17) -> 14 | H18: =G18/F18 -> 0.29166667 | I18: =SUM(I16:I17) -> 7 | J18: =I18/F18 -> 0.14583333 | K18: =SUM(K16:K17) -> 27 | L18: =K18/F18 -> 0.5625 | M18: =SUM(M16:M17) -> 93 | N18: =SUM(N16:N17) -> 127 | S18: =A18 -> Kevin
A19: =IF(ISBLANK(D19),A18,D19) -> Thib | B19: =VLOOKUP(C19,'Stats consolidées'!$B:$C,2,0) -> TRUE | C19: Saison 13-14 | D19: Thib | E19: 2013/14 | F19: 27 | G19: 9 | H19: =G19/F19 -> 0.33333333 | I19: 2 | J19: =I19/F19 -> 0.074074074 | K19: 16 | L19: =K19/F19 -> 0.59259259 | M19: 61 | N19: 78 | O19: Seb | P19: 9 | Q19: Thib | R19: 8 | S19: =A19 -> Thib
A20: =IF(ISBLANK(D20),A19,D20) -> Thib | B20: =VLOOKUP(C20,'Stats consolidées'!$B:$C,2,0) -> TRUE | C20: Saison 12-13 | E20: 2012/13 | F20: 24 | G20: 6 | H20: =G20/F20 -> 0.25 | I20: 5 | J20: =I20/F20 -> 0.20833333 | K20: 13 | L20: =K20/F20 -> 0.54166667 | M20: 40 | N20: 62 | O20: Will | P20: 13 | Q20: Thib | R20: 5 | S20: =A20 -> Thib
A21: =IF(ISBLANK(D21),A20,D21) -> Thib | B21: =VLOOKUP(C21,'Stats consolidées'!$B:$C,2,0) -> TRUE | C21: Saison 11-12 | E21: 2011/12 | F21: 25 | G21: 17 | H21: =G21/F21 -> 0.68 | I21: 4 | J21: =I21/F21 -> 0.16 | K21: 4 | L21: =K21/F21 -> 0.16 | M21: 60 | N21: 37 | O21: Thib | P21: 18 | Q21: Thib | R21: 15 | S21: =A21 -> Thib
A22: =IF(ISBLANK(D22),A21,D22) -> Thib | B22: =VLOOKUP(C22,'Stats consolidées'!$B:$C,2,0) -> TRUE | C22: Saison 10-11 | E22: 2010/11 | F22: 22 | G22: 12 | H22: =G22/F22 -> 0.54545455 | I22: 4 | J22: =I22/F22 -> 0.18181818 | K22: 6 | L22: =K22/F22 -> 0.27272727 | M22: 47 | N22: 32 | O22: Baz | P22: 11 | Q22: Thib | R22: 13 | S22: =A22 -> Thib
A23: =IF(ISBLANK(D23),A22,D23) -> Thib | B23: =VLOOKUP(C23,'Stats consolidées'!$B:$C,2,0) -> TRUE | C23: Saison 09-10 | E23: 2009/10 | F23: 22 | G23: 13 | H23: =G23/F23 -> 0.59090909 | I23: 3 | J23: =I23/F23 -> 0.13636364 | K23: 6 | L23: =K23/F23 -> 0.27272727 | M23: 52 | N23: 29 | O23: Seb | P23: 16 | Q23: Baz | R23: 8 | S23: =A23 -> Thib
A24: =IF(ISBLANK(D24),A23,D24) -> Thib | B24: =VLOOKUP(C24,'Stats consolidées'!$B:$C,2,0) -> TRUE | C24: Saison 08-09 | E24: 2008/09 | F24: 21 | G24: 8 | H24: =G24/F24 -> 0.38095238 | I24: 2 | J24: =I24/F24 -> 0.095238095 | K24: 11 | L24: =K24/F24 -> 0.52380952 | M24: 44 | N24: 34 | O24: Thib | P24: 15 | Q24: Thib | R24: 11 | S24: =A24 -> Thib
A25: =IF(ISBLANK(D25),A24,D25) -> Thib | B25: =VLOOKUP(C25,'Stats consolidées'!$B:$C,2,0) -> TRUE | C25: Saison 07-08 | E25: 2007/08 | F25: 19 | G25: 10 | H25: =G25/F25 -> 0.52631579 | I25: 4 | J25: =I25/F25 -> 0.21052632 | K25: 5 | L25: =K25/F25 -> 0.26315789 | M25: 43 | N25: 34 | O25: Thib | P25: 18 | Q25: Thib | R25: 9 | S25: =A25 -> Thib
A26: =IF(ISBLANK(D26),A25,D26) -> Thib | B26: =VLOOKUP(C26,'Stats consolidées'!$B:$C,2,0) -> TRUE | C26: Saison 06-07 | E26: 2007 | F26: 11 | G26: 6 | H26: =G26/F26 -> 0.54545455 | I26: 2 | J26: =I26/F26 -> 0.18181818 | K26: 3 | L26: =K26/F26 -> 0.27272727 | M26: 36 | N26: 22 | O26: Thib | P26: 14 | Q26: Thib | R26: 10 | S26: =A26 -> Thib
A27: =IF(ISBLANK(D27),A26,D27) -> Thib | E27: Total | F27: =SUM(F19:F26) -> 171 | G27: =SUM(G19:G26) -> 81 | H27: =G27/F27 -> 0.47368421 | I27: =SUM(I19:I26) -> 26 | J27: =I27/F27 -> 0.15204678 | K27: =SUM(K19:K26) -> 64 | L27: =K27/F27 -> 0.37426901 | M27: =SUM(M19:M26) -> 383 | N27: =SUM(N19:N26) -> 328 | S27: =A27 -> Thib
A28: =IF(ISBLANK(D28),A27,D28) -> Geff | B28: =VLOOKUP(C28,'Stats consolidées'!$B:$C,2,0) -> TRUE | C28: Saison 06-07 | D28: Geff | E28: 2006 | F28: 9 | G28: 6 | H28: =G28/F28 -> 0.66666667 | I28: 3 | J28: =I28/F28 -> 0.33333333 | K28: 0 | L28: =K28/F28 -> 0 | M28: 23 | N28: 15 | O28: / | Q28: / | S28: =A28 -> Geff
A29: =IF(ISBLANK(D29),A28,D29) -> Geff | B29: =VLOOKUP(C29,'Stats consolidées'!$B:$C,2,0) -> TRUE | C29: Saison 05-06 | E29: 2005/2006 | F29: 18 | G29: 6 | H29: =G29/F29 -> 0.33333333 | I29: 4 | J29: =I29/F29 -> 0.22222222 | K29: 8 | L29: =K29/F29 -> 0.44444444 | M29: 41 | N29: 39 | O29: Seb | P29: 14 | Q29: Thib | R29: 9 | S29: =A29 -> Geff
A30: =IF(ISBLANK(D30),A29,D30) -> Geff | C30: Saison 04-05 | E30: 2005 | F30: 8 | G30: 5 | H30: =G30/F30 -> 0.625 | I30: 0 | J30: =I30/F30 -> 0 | K30: 3 | L30: =K30/F30 -> 0.375 | M30: 32 | N30: 15 | O30: / | Q30: / | S30: =A30 -> Geff
A31: =IF(ISBLANK(D31),A30,D31) -> Geff | E31: Total | F31: =SUM(F28:F30) -> 35 | G31: =SUM(G28:G30) -> 17 | H31: =G31/F31 -> 0.48571429 | I31: =SUM(I28:I30) -> 7 | J31: =I31/F31 -> 0.2 | K31: =SUM(K28:K30) -> 11 | L31: =K31/F31 -> 0.31428571 | M31: =SUM(M28:M30) -> 96 | N31: =SUM(N28:N30) -> 69 | S31: =A31 -> Geff
A32: =IF(ISBLANK(D32),A31,D32) -> Cyrille | C32: Saison 04-05 | D32: Cyrille | E32: 2004 | F32: 11 | G32: 6 | H32: =G32/F32 -> 0.54545455 | I32: 0 | J32: =I32/F32 -> 0 | K32: 5 | L32: =K32/F32 -> 0.45454545 | M32: 38 | N32: 22 | O32: / | Q32: / | S32: =A32 -> Cyrille
A33: =IF(ISBLANK(D33),A32,D33) -> Cyrille | C33: Saison 03-04 | E33: 2003/2004 | F33: 18 | G33: 4 | H33: =G33/F33 -> 0.22222222 | I33: 1 | J33: =I33/F33 -> 0.055555556 | K33: 13 | L33: =K33/F33 -> 0.72222222 | M33: 20 | N33: 46 | O33: / | Q33: / | S33: =A33 -> Cyrille
A34: =IF(ISBLANK(D34),A33,D34) -> Cyrille | C34: Saison 02-03 | E34: 2002/2003 | F34: 22 | G34: 7 | H34: =G34/F34 -> 0.31818182 | I34: 2 | J34: =I34/F34 -> 0.090909091 | K34: 13 | L34: =K34/F34 -> 0.59090909 | M34: 37 | N34: 58 | O34: / | Q34: / | S34: =A34 -> Cyrille
A35: =IF(ISBLANK(D35),A34,D35) -> Cyrille | E35: Total | F35: =SUM(F32:F34) -> 51 | G35: =SUM(G32:G34) -> 17 | H35: =G35/F35 -> 0.33333333 | I35: =SUM(I32:I34) -> 3 | J35: =I35/F35 -> 0.058823529 | K35: =SUM(K32:K34) -> 31 | L35: =K35/F35 -> 0.60784314 | M35: =SUM(M32:M34) -> 95 | N35: =SUM(N32:N34) -> 126 | S35: =A35 -> Cyrille
E36: TOTAL | F36: =F35+F31+F27+F18+F15+F13+F9+F5 -> 496 | G36: =G35+G31+G27+G18+G15+G13+G9+G5 -> 204 | H36: =G36/F36 -> 0.41129032 | I36: =I35+I31+I27+I18+I15+I13+I9+I5 -> 79 | J36: =I36/F36 -> 0.15927419 | K36: =K35+K31+K27+K18+K15+K13+K9+K5 -> 213 | L36: =K36/F36 -> 0.42943548 | M36: =M35+M31+M27+M18+M15+M13+M9+M5 -> 1137 | N36: =N35+N31+N27+N18+N15+N13+N9+N5 -> 1072
D38: Données | G38: J | H38: G | I38: N | J38: P | K38: %G
A39: 2 | B39: 3 | C39: =IF(A39<10,"0"&A39,A39) -> 02 | D39: =IF(B39<10,"0"&B39,B39) -> 03 | E39: ="Saison "&C39&"-"&D39 -> Saison 02-03 | F39: =VLOOKUP(E39,$C$2:$S$35,17,0) -> Cyrille | G39: =SUMIFS(F$2:F$34,$C$2:$C$34,$E39) -> 22 | H39: =SUMIFS(G$2:G$34,$C$2:$C$34,$E39) -> 7 | I39: =SUMIFS(I$2:I$34,$C$2:$C$34,$E39) -> 2 | J39: =SUMIFS(K$2:K$34,$C$2:$C$34,$E39) -> 13 | K39: =H39/G39 -> 0.31818182
A40: =A39+1 -> 3 | B40: =B39+1 -> 4 | C40: =IF(A40<10,"0"&A40,A40) -> 03 | D40: =IF(B40<10,"0"&B40,B40) -> 04 | E40: ="Saison "&C40&"-"&D40 -> Saison 03-04 | F40: =VLOOKUP(E40,$C$2:$S$35,17,0) -> Cyrille | G40: =SUMIFS(F$2:F$34,$C$2:$C$34,$E40) -> 18 | H40: =SUMIFS(G$2:G$34,$C$2:$C$34,$E40) -> 4 | I40: =SUMIFS(I$2:I$34,$C$2:$C$34,$E40) -> 1 | J40: =SUMIFS(K$2:K$34,$C$2:$C$34,$E40) -> 13 | K40: =H40/G40 -> 0.22222222
A41: =A40+1 -> 4 | B41: =B40+1 -> 5 | C41: =IF(A41<10,"0"&A41,A41) -> 04 | D41: =IF(B41<10,"0"&B41,B41) -> 05 | E41: ="Saison "&C41&"-"&D41 -> Saison 04-05 | F41: =VLOOKUP(E41,$C$2:$S$35,17,0) -> Geff | G41: =SUMIFS(F$2:F$34,$C$2:$C$34,$E41) -> 19 | H41: =SUMIFS(G$2:G$34,$C$2:$C$34,$E41) -> 11 | I41: =SUMIFS(I$2:I$34,$C$2:$C$34,$E41) -> 0 | J41: =SUMIFS(K$2:K$34,$C$2:$C$34,$E41) -> 8 | K41: =H41/G41 -> 0.57894737
...

Sheet Stats consolidées
W1: 1 | X1: 1 | Y1: 1 | Z1: 1 | AA1: 1 | AB1: 1 | AC1: 1 | AD1: 1 | AE1: 1 | AI1: 1 | AJ1: 1 | AK1: 1 | AL1: 1 | AM1: 1 | AN1: 1 | AO1: 1 | AP1: 1 | AQ1: 1 | AR1: =AQ1 -> 1 | AS1: 2 | AT1: 2 | AU1: 2 | AV1: 2 | AW1: 2 | AX1: 2 | AY1: 2 | AZ1: 2 | BA1: 2 | BB1: 2 | BC1: =AS1+1 -> 3 | BD1: =AT1+1 -> 3 | BE1: =AU1+1 -> 3 | BF1: =AV1+1 -> 3 | BG1: =AW1+1 -> 3 | BH1: =AX1+1 -> 3 | BI1: =AY1+1 -> 3 | BJ1: =AZ1+1 -> 3 | BK1: =BA1+1 -> 3 | BL1: =BK1 -> 3 | BM1: =BC1+1 -> 4 | BN1: =BD1+1 -> 4 | BO1: =BE1+1 -> 4 | BP1: =BF1+1 -> 4 | BQ1: =BG1+1 -> 4 | BR1: =BH1+1 -> 4 | BS1: =BI1+1 -> 4 | BT1: =BJ1+1 -> 4 | BU1: =BK1+1 -> 4 | BV1: =BU1 -> 4 | BW1: =BM1+1 -> 5 | BX1: =BN1+1 -> 5 | BY1: =BO1+1 -> 5 | BZ1: =BP1+1 -> 5 | CA1: =BQ1+1 -> 5 | CB1: =BR1+1 -> 5 | CC1: =BS1+1 -> 5 | CD1: =BT1+1 -> 5 | CE1: =BU1+1 -> 5 | CF1: =CE1 -> 5 | CG1: =BW1+1 -> 6 | CH1: =BX1+1 -> 6 | CI1: =BY1+1 -> 6 | CJ1: =BZ1+1 -> 6 | CK1: =CA1+1 -> 6 | CL1: =CB1+1 -> 6 | CM1: =CC1+1 -> 6 | CN1: =CD1+1 -> 6 | CO1: =CE1+1 -> 6 | CP1: =CO1 -> 6 | CQ1: =CG1+1 -> 7 | CR1: =CH1+1 -> 7 | CS1: =CI1+1 -> 7 | CT1: =CJ1+1 -> 7 | CU1: =CK1+1 -> 7 | CV1: =CL1+1 -> 7 | CW1: =CM1+1 -> 7 | CX1: =CN1+1 -> 7 | CY1: =CO1+1 -> 7 | CZ1: =CY1 -> 7 | DA1: =CQ1+1 -> 8 | DB1: =CR1+1 -> 8 | DC1: =CS1+1 -> 8 | DD1: =CT1+1 -> 8 | DE1: =CU1+1 -> 8 | DF1: =CV1+1 -> 8 | DG1: =CW1+1 -> 8 | DH1: =CX1+1 -> 8 | DI1: =CY1+1 -> 8 | DJ1: =DI1 -> 8 | DK1: =DA1+1 -> 9 | DL1: =DB1+1 -> 9 | DM1: =DC1+1 -> 9 | DN1: =DD1+1 -> 9 | DO1: =DE1+1 -> 9 | DP1: =DF1+1 -> 9 | DQ1: =DG1+1 -> 9 | DR1: =DH1+1 -> 9 | DS1: =DI1+1 -> 9 | DT1: =DS1 -> 9 | DU1: =DK1+1 -> 10 | DV1: =DL1+1 -> 10 | DW1: =DM1+1 -> 10 | DX1: =DN1+1 -> 10 | DY1: =DO1+1 -> 10 | DZ1: =DP1+1 -> 10 | EA1: =DQ1+1 -> 10 | EB1: =DR1+1 -> 10 | EC1: =DS1+1 -> 10 | ED1: =EC1 -> 10 | EE1: =DU1+1 -> 11 | EF1: =DV1+1 -> 11 | EG1: =DW1+1 -> 11 | EH1: =DX1+1 -> 11 | EI1: =DY1+1 -> 11 | EJ1: =DZ1+1 -> 11 | EK1: =EA1+1 -> 11 | EL1: =EB1+1 -> 11 | EM1: =EC1+1 -> 11 | EN1: =EM1 -> 11 | EO1: =EE1+1 -> 12 | EP1: =EF1+1 -> 12 | EQ1: =EG1+1 -> 12 | ER1: =EH1+1 -> 12 | ES1: =EI1+1 -> 12 | ET1: =EJ1+1 -> 12 | EU1: =EK1+1 -> 12 | EV1: =EL1+1 -> 12 | EW1: =EM1+1 -> 12 | EX1: =EW1 -> 12 | EY1: =EO1+1 -> 13 | EZ1: =EP1+1 -> 13 | FA1: =EQ1+1 -> 13 | FB1: =ER1+1 -> 13 | FC1: =ES1+1 -> 13 | FD1: =ET1+1 -> 13 | FE1: =EU1+1 -> 13 | FF1: =EV1+1 -> 13 | FG1: =EW1+1 -> 13 | FH1: =FG1 -> 13 | FI1: =EY1+1 -> 14 | FJ1: =EZ1+1 -> 14 | FK1: =FA1+1 -> 14 | FL1: =FB1+1 -> 14 | FM1: =FC1+1 -> 14 | FN1: =FD1+1 -> 14 | FO1: =FE1+1 -> 14 | FP1: =FF1+1 -> 14 | FQ1: =FG1+1 -> 14 | FR1: =FQ1 -> 14 | FS1: =FI1+1 -> 15 | FT1: =FJ1+1 -> 15 | FU1: =FK1+1 -> 15 | FV1: =FL1+1 -> 15 | FW1: =FM1+1 -> 15 | FX1: =FN1+1 -> 15 | FY1: =FO1+1 -> 15 | FZ1: =FP1+1 -> 15 | GA1: =FQ1+1 -> 15 | GB1: =GA1 -> 15 | GC1: =FS1+1 -> 16 | GD1: =FT1+1 -> 16 | GE1: =FU1+1 -> 16 | GF1: =FV1+1 -> 16 | GG1: =FW1+1 -> 16 | GH1: =FX1+1 -> 16 | GI1: =FY1+1 -> 16 | GJ1: =FZ1+1 -> 16 | GK1: =GA1+1 -> 16 | GL1: =GK1 -> 16 | GM1: =GC1+1 -> 17 | GN1: =GD1+1 -> 17 | GO1: =GE1+1 -> 17 | GP1: =GF1+1 -> 17 | GQ1: =GG1+1 -> 17 | GR1: =GH1+1 -> 17 | GS1: =GI1+1 -> 17 | GT1: =GJ1+1 -> 17 | GU1: =GK1+1 -> 17 | GV1: =GU1 -> 17 | GW1: =GM1+1 -> 18 | GX1: =GN1+1 -> 18 | GY1: =GO1+1 -> 18 | GZ1: =GP1+1 -> 18 | HA1: =GQ1+1 -> 18 | HB1: =GR1+1 -> 18 | HC1: =GS1+1 -> 18 | HD1: =GT1+1 -> 18 | HE1: =GU1+1 -> 18 | HF1: =HE1 -> 18 | HG1: =GW1+1 -> 19 | HH1: =GX1+1 -> 19 | HI1: =GY1+1 -> 19 | HJ1: =GZ1+1 -> 19 | HK1: =HA1+1 -> 19 | HL1: =HB1+1 -> 19 | HM1: =HC1+1 -> 19 | HN1: =HD1+1 -> 19 | HO1: =HE1+1 -> 19 | HP1: =HO1 -> 19 | HQ1: =HG1+1 -> 20 | HR1: =HH1+1 -> 20 | HS1: =HI1+1 -> 20 | HT1: =HJ1+1 -> 20 | HU1: =HK1+1 -> 20 | HV1: =HL1+1 -> 20 | HW1: =HM1+1 -> 20 | HX1: =HN1+1 -> 20 | HY1: =HO1+1 -> 20 | HZ1: =HY1 -> 20 | IA1: =HQ1+1 -> 21 | IB1: =HR1+1 -> 21 | IC1: =HS1+1 -> 21 | ID1: =HT1+1 -> 21 | IE1: =HU1+1 -> 21 | IF1: =HV1+1 -> 21 | IG1: =HW1+1 -> 21 | IH1: =HX1+1 -> 21 | II1: =HY1+1 -> 21 | IJ1: =II1 -> 21
B2: Tri : | C2: 1 | F2: 2 | G2: 4 | H2: 5 | I2: 6 | J2: 7 | K2: 8 | L2: 9 | M2: 10 | N2: 11 | O2: 12 | P2: 13 | Q2: 14 | R2: 15 | W2: 2 | X2: 3 | Y2: 4 | Z2: 5 | AA2: 6 | AB2: 7 | AC2: 8 | AD2: 9 | AE2: 10 | AF2: 11 | AI2: 2 | AJ2: 3 | AK2: 4 | AL2: 5 | AM2: 6 | AN2: 7 | AO2: 8 | AP2: 9 | AQ2: 10 | AS2: 2 | AT2: 3 | AU2: 4 | AV2: 5 | AW2: 6 | AX2: 7 | AY2: 8 | AZ2: 9 | BA2: 10 | BC2: 2 | BD2: 3 | BE2: 4 | BF2: 5 | BG2: 6 | BH2: 7 | BI2: 8 | BJ2: 9 | BK2: 10 | BM2: 2 | BN2: 3 | BO2: 4 | BP2: 5 | BQ2: 6 | BR2: 7 | BS2: 8 | BT2: 9 | BU2: 10 | BW2: 2 | BX2: 3 | BY2: 4 | BZ2: 5 | CA2: 6 | CB2: 7 | CC2: 8 | CD2: 9 | CE2: 10 | CG2: 2 | CH2: 3 | CI2: 4 | CJ2: 5 | CK2: 6 | CL2: 7 | CM2: 8 | CN2: 9 | CO2: 10 | CQ2: 2 | CR2: 3 | CS2: 4 | CT2: 5 | CU2: 6 | CV2: 7 | CW2: 8 | CX2: 9 | CY2: 10 | DA2: 2 | DB2: 3 | DC2: 4 | DD2: 5 | DE2: 6 | DF2: 7 | DG2: 8 | DH2: 9 | DI2: 10 | DK2: 2 | DL2: 3 | DM2: 4 | DN2: 5 | DO2: 6 | DP2: 7 | DQ2: 8 | DR2: 9 | DS2: 10 | DU2: 2 | DV2: 3 | DW2: 4 | DX2: 5 | DY2: 6 | DZ2: 7 | EA2: 8 | EB2: 9 | EC2: 10 | EE2: 2 | EF2: 3 | EG2: 4 | EH2: 5 | EI2: 6 | EJ2: 7 | EK2: 8 | EL2: 9 | EM2: 10 | EO2: 2 | EP2: 3 | EQ2: 4 | ER2: 5 | ES2: 6 | ET2: 7 | EU2: 8 | EV2: 9 | EW2: 10 | EY2: 2 | EZ2: 3 | FA2: 4 | FB2: 5 | FC2: 6 | FD2: 7 | FE2: 8 | FF2: 9 | FG2: 10 | FI2: 2 | FJ2: 3 | FK2: 4 | FL2: 5 | FM2: 6 | FN2: 7 | FO2: 8 | FP2: 9 | FQ2: 10 | FS2: 2 | FT2: 3 | FU2: 4 | FV2: 5 | FW2: 6 | FX2: 7 | FY2: 8 | FZ2: 9 | GA2: 10 | GC2: 2 | GD2: 3 | GE2: 4 | GF2: 5 | GG2: 6 | GH2: 7 | GI2: 8 | GJ2: 9 | GK2: 10 | GM2: 2 | GN2: 3 | GO2: 4 | GP2: 5 | GQ2: 6 | GR2: 7 | GS2: 8 | GT2: 9 | GU2: 10 | GW2: 2 | GX2: 3 | GY2: 4 | GZ2: 5 | HA2: 6 | HB2: 7 | HC2: 8 | HD2: 9 | HE2: 10 | HG2: 2 | HH2: 3 | HI2: 4 | HJ2: 5 | HK2: 6 | HL2: 7 | HM2: 8 | HN2: 9 | HO2: 10 | HQ2: 2 | HR2: 3 | HS2: 4 | HT2: 5 | HU2: 6 | HV2: 7 | HW2: 8 | HX2: 9 | HY2: 10 | IA2: 2 | IB2: 3 | IC2: 4 | ID2: 5 | IE2: 6 | IF2: 7 | IG2: 8 | IH2: 9 | II2: 10
G3: Matches | H3: Titulaire | I3: Remp | J3: Temps | K3: T/M | L3: Buts | M3: Passes | N3: C Jaune | O3: C Rouge | P3: % Match (sur période totale) | Q3: Nb saisons | R3: % Match (sur matchs des saisons jouées) | V3: Pour tri | W3: Match | X3: Titulaire | Y3: Remp | Z3: Temps | AA3: T/M | AB3: But | AC3: Passe | AD3: C Jaune | AE3: C Rouge | AF3: % Match | AG3: Nb saisons | AH3: Nb matches saison | AI3: Match | AJ3: Titulaire | AK3: Remp | AL3: Temps | AM3: T/M | AN3: But | AO3: Passe | AP3: C Jaune | AQ3: C Rouge | AR3: Nb matches saison | AS3: Match | AT3: Titulaire | AU3: Remp | AV3: Temps | AW3: T/M | AX3: But | AY3: Passe | AZ3: C Jaune | BA3: C Rouge | BB3: Nb matches saison | BC3: Match | BD3: Titulaire | BE3: Remp | BF3: Temps | BG3: T/M | BH3: But | BI3: Passe | BJ3: C Jaune | BK3: C Rouge | BL3: Nb matches saison | BM3: Match | BN3: Titulaire | BO3: Remp | BP3: Temps | BQ3: T/M | BR3: But | BS3: Passe | BT3: C Jaune | BU3: C Rouge | BV3: Nb matches saison | BW3: Match | BX3: Titulaire | BY3: Remp | BZ3: Temps | CA3: T/M | CB3: But | CC3: Passe | CD3: C Jaune | CE3: C Rouge | CF3: Nb matches saison | CG3: Match | CH3: Titulaire | CI3: Remp | CJ3: Temps | CK3: T/M | CL3: But | CM3: Passe | CN3: C Jaune | CO3: C Rouge | CP3: Nb matches saison | CQ3: Match | CR3: Titulaire | CS3: Remp | CT3: Temps | CU3: T/M | CV3: But | CW3: Passe | CX3: C Jaune | CY3: C Rouge | CZ3: Nb matches saison | DA3: Match | DB3: Titulaire | DC3: Remp | DD3: Temps | DE3: T/M | DF3: But | DG3: Passe | DH3: C Jaune | DI3: C Rouge | DJ3: Nb matches saison | DK3: Match | DL3: Titulaire | DM3: Remp | DN3: Temps | DO3: T/M | DP3: But | DQ3: Passe | DR3: C Jaune | DS3: C Rouge | DT3: Nb matches saison | DU3: Match | DV3: Titulaire | DW3: Remp | DX3: Temps | DY3: T/M | DZ3: But | EA3: Passe | EB3: C Jaune | EC3: C Rouge | ED3: Nb matches saison | EE3: Match | EF3: Titulaire | EG3: Remp | EH3: Temps | EI3: T/M | EJ3: But | EK3: Passe | EL3: C Jaune | EM3: C Rouge | EN3: Nb matches saison | EO3: Match | EP3: Titulaire | EQ3: Remp | ER3: Temps | ES3: T/M | ET3: But | EU3: Passe | EV3: C Jaune | EW3: C Rouge | EX3: Nb matches saison | EY3: Match | EZ3: Titulaire | FA3: Remp | FB3: Temps | FC3: T/M | FD3: But | FE3: Passe | FF3: C Jaune | FG3: C Rouge | FH3: Nb matches saison | FI3: Match | FJ3: Titulaire | FK3: Remp | FL3: Temps | FM3: T/M | FN3: But | FO3: Passe | FP3: C Jaune | FQ3: C Rouge | FR3: Nb matches saison | FS3: Match | FT3: Titulaire | FU3: Remp | FV3: Temps | FW3: T/M | FX3: But | FY3: Passe | FZ3: C Jaune | GA3: C Rouge | GB3: Nb matches saison | GC3: Match | GD3: Titulaire | GE3: Remp | GF3: Temps | GG3: T/M | GH3: But | GI3: Passe | GJ3: C Jaune | GK3: C Rouge | GL3: Nb matches saison | GM3: Match | GN3: Titulaire | GO3: Remp | GP3: Temps | GQ3: T/M | GR3: But | GS3: Passe | GT3: C Jaune | GU3: C Rouge | GV3: Nb matches saison | GW3: Match | GX3: Titulaire | GY3: Remp | GZ3: Temps | HA3: T/M | HB3: But | HC3: Passe | HD3: C Jaune | HE3: C Rouge | HF3: Nb matches saison | HG3: Match | HH3: Titulaire | HI3: Remp | HJ3: Temps | HK3: T/M | HL3: But | HM3: Passe | HN3: C Jaune | HO3: C Rouge | HP3: Nb matches saison | HQ3: Match | HR3: Titulaire | HS3: Remp | HT3: Temps | HU3: T/M | HV3: But | HW3: Passe | HX3: C Jaune | HY3: C Rouge | HZ3: Nb matches saison | IA3: Match | IB3: Titulaire | IC3: Remp | ID3: Temps | IE3: T/M | IF3: But | IG3: Passe | IH3: C Jaune | II3: C Rouge | IJ3: Nb matches saison
E4: 1 | F4: =IFERROR(VLOOKUP($E4,$T$4:$AE$98,F$2,0),"") -> Thib | G4: =IFERROR(VLOOKUP($E4,$T$4:$AE$98,G$2,0),"") -> 346 | H4: =IFERROR(VLOOKUP($E4,$T$4:$AE$98,H$2,0),"") -> 331 | I4: =IFERROR(VLOOKUP($E4,$T$4:$AE$98,I$2,0),"") -> 15 | J4: =IFERROR(VLOOKUP($E4,$T$4:$AE$98,J$2,0),"") -> 29850 | K4: =IFERROR(ROUND(VLOOKUP($E4,$T$4:$AE$98,K$2,0)*2,0)/2,"") -> 86.5 | L4: =IFERROR(VLOOKUP($E4,$T$4:$AE$98,L$2,0),"") -> 178 | M4: =IFERROR(VLOOKUP($E4,$T$4:$AE$98,M$2,0),"") -> 194 | N4: =IFERROR(VLOOKUP($E4,$T$4:$AE$98,N$2,0),"") -> 84 | O4: =IFERROR(VLOOKUP($E4,$T$4:$AE$98,O$2,0),"") -> 2 | P4: =IFERROR(VLOOKUP($E4,$T$4:$AF$98,P$2,0),"") -> 0.79176201 | Q4: =IFERROR(VLOOKUP($E4,$T$4:$AG$98,Q$2,0),"") -> 20 | R4: =IFERROR(VLOOKUP($E4,$T$4:$AH$98,G$2,0)/VLOOKUP($E4,$T$4:$AH$98,R$2,0),"") -> 0.83373494 | T4: =RANK(V4,$V$4:$V$98,0)+COUNTIFS($V$4:$V4,V4)-1 -> 65 | U4: =Listes!X4 -> Abib | V4: {=INDEX($W4:$AG4,$C$2)} -> 14 | W4: =SUMIFS($AI4:$II4,$AI$3:$II$3,W$3) -> 14 | X4: =SUMIFS($AI4:$II4,$AI$3:$II$3,X$3) -> 12 | Y4: =SUMIFS($AI4:$II4,$AI$3:$II$3,Y$3) -> 2 | Z4: =SUMIFS($AI4:$II4,$AI$3:$II$3,Z$3) -> 940 | AA4: =IFERROR(Z4/W4,"") -> 67.142857 | AB4: =SUMIFS($AI4:$II4,$AI$3:$II$3,AB$3) -> 1 | AC4: =SUMIFS($AI4:$II4,$AI$3:$II$3,AC$3) -> 0 | AD4: =SUMIFS($AI4:$II4,$AI$3:$II$3,AD$3) -> 3 | AE4: =SUMIFS($AI4:$II4,$AI$3:$II$3,AE$3) -> 0 | AF4: =W4/$C$28 -> 0.032036613 | AG4: =COUNTIFS($AI4:$II4,">0",$AI$3:$II$3,"Match") -> 1 | AH4: =SUMIFS($AI4:$IJ4,$AI$3:$IJ$3,AH$3) -> 20 | AI4: =IFERROR(IF(VLOOKUP(AI$1,$A$6:$C$26,3,0),VLOOKUP($U4,INDIRECT("'"&SUBSTITUTE(VLOOKUP(AI$1,$A$6:$C$26,2,0),"Saison","Stats",1)&"'!$A:$J"),AI$2,0),""),"") -> 14 | AJ4: =IFERROR(IF(VLOOKUP(AJ$1,$A$6:$C$26,3,0),VLOOKUP($U4,INDIRECT("'"&SUBSTITUTE(VLOOKUP(AJ$1,$A$6:$C$26,2,0),"Saison","Stats",1)&"'!$A:$J"),AJ$2,0),""),"") -> 12 | AK4: =IFERROR(IF(VLOOKUP(AK$1,$A$6:$C$26,3,0),VLOOKUP($U4,INDIRECT("'"&SUBSTITUTE(VLOOKUP(AK$1,$A$6:$C$26,2,0),"Saison","Stats",1)&"'!$A:$J"),AK$2,0),""),"") -> 2 | AL4: =IFERROR(IF(VLOOKUP(AL$1,$A$6:$C$26,3,0),VLOOKUP($U4,INDIRECT("'"&SUBSTITUTE(VLOOKUP(AL$1,$A$6:$C$26,2,0),"Saison","Stats",1)&"'!$A:$J"),AL$2,0),""),"") -> 940 | AM4: =IFERROR(IF(VLOOKUP(AM$1,$A$6:$C$26,3,0),VLOOKUP($U4,INDIRECT("'"&SUBSTITUTE(VLOOKUP(AM$1,$A$6:$C$26,2,0),"Saison","Stats",1)&"'!$A:$J"),AM$2,0),""),"") -> 67 | AN4: =IFERROR(IF(VLOOKUP(AN$1,$A$6:$C$26,3,0),VLOOKUP($U4,INDIRECT("'"&SUBSTITUTE(VLOOKUP(AN$1,$A$6:$C$26,2,0),"Saison","Stats",1)&"'!$A:$J"),AN$2,0),""),"") -> 1 | AO4: =IFERROR(IF(VLOOKUP(AO$1,$A$6:$C$26,3,0),VLOOKUP($U4,INDIRECT("'"&SUBSTITUTE(VLOOKUP(AO$1,$A$6:$C$26,2,0),"Saison","Stats",1)&"'!$A:$J"),AO$2,0),""),"") -> 0 | AP4: =IFERROR(IF(VLOOKUP(AP$1,$A$6:$C$26,3,0),VLOOKUP($U4,INDIRECT("'"&SUBSTITUTE(VLOOKUP(AP$1,$A$6:$C$26,2,0),"Saison","Stats",1)&"'!$A:$J"),AP$2,0),""),"") -> 3 | AQ4: =IFERROR(IF(VLOOKUP(AQ$1,$A$6:$C$26,3,0),VLOOKUP($U4,INDIRECT("'"&SUBSTITUTE(VLOOKUP(AQ$1,$A$6:$C$26,2,0),"Saison","Stats",1)&"'!$A:$J"),AQ$2,0),""),"") -> 0 | AR4: =IFERROR(IF(VLOOKUP(AR$1,$A$6:$C$26,3,0),IF(ISNUMBER(AI4),SUMIFS('Stats Coachs'!$F$2:$F$29,'Stats Coachs'!$C$2:$C$29,VLOOKUP(AR$1,$A$6:$B$26,2,0)),""),""),"") -> 20 | AS4: =IFERROR(IF(VLOOKUP(AS$1,$A$7:$C$26,3,0),VLOOKUP($U4,INDIRECT("'"&SUBSTITUTE(VLOOKUP(AS$1,$A$7:$C$26,2,0),"Saison","Stats",1)&"'!$A:$J"),AS$2,0),""),"") | AT4: =IFERROR(IF(VLOOKUP(AT$1,$A$7:$C$26,3,0),VLOOKUP($U4,INDIRECT("'"&SUBSTITUTE(VLOOKUP(AT$1,$A$7:$C$26,2,0),"Saison","Stats",1)&"'!$A:$J"),AT$2,0),""),"") | AU4: =IFERROR(IF(VLOOKUP(AU$1,$A$7:$C$26,3,0),VLOOKUP($U4,INDIRECT("'"&SUBSTITUTE(VLOOKUP(AU$1,$A$7:$C$26,2,0),"Saison","Stats",1)&"'!$A:$J"),AU$2,0),""),"") | AV4: =IFERROR(IF(VLOOKUP(AV$1,$A$7:$C$26,3,0),VLOOKUP($U4,INDIRECT("'"&SUBSTITUTE(VLOOKUP(AV$1,$A$7:$C$26,2,0),"Saison","Stats",1)&"'!$A:$J"),AV$2,0),""),"") | AW4: =IFERROR(IF(VLOOKUP(AW$1,$A$7:$C$26,3,0),VLOOKUP($U4,INDIRECT("'"&SUBSTITUTE(VLOOKUP(AW$1,$A$7:$C$26,2,0),"Saison","Stats",1)&"'!$A:$J"),AW$2,0),""),"") | AX4: =IFERROR(IF(VLOOKUP(AX$1,$A$7:$C$26,3,0),VLOOKUP($U4,INDIRECT("'"&SUBSTITUTE(VLOOKUP(AX$1,$A$7:$C$26,2,0),"Saison","Stats",1)&"'!$A:$J"),AX$2,0),""),"") | AY4: =IFERROR(IF(VLOOKUP(AY$1,$A$7:$C$26,3,0),VLOOKUP($U4,INDIRECT("'"&SUBSTITUTE(VLOOKUP(AY$1,$A$7:$C$26,2,0),"Saison","Stats",1)&"'!$A:$J"),AY$2,0),""),"") | AZ4: =IFERROR(IF(VLOOKUP(AZ$1,$A$7:$C$26,3,0),VLOOKUP($U4,INDIRECT("'"&SUBSTITUTE(VLOOKUP(AZ$1,$A$7:$C$26,2,0),"Saison","Stats",1)&"'!$A:$J"),AZ$2,0),""),"") | BA4: =IFERROR(IF(VLOOKUP(BA$1,$A$7:$C$26,3,0),VLOOKUP($U4,INDIRECT("'"&SUBSTITUTE(VLOOKUP(BA$1,$A$7:$C$26,2,0),"Saison","Stats",1)&"'!$A:$J"),BA$2,0),""),"") | BB4: =IFERROR(IF(VLOOKUP(BB$1,$A$7:$C$26,3,0),IF(ISNUMBER(AS4),SUMIFS('Stats Coachs'!$F$3:$F$29,'Stats Coachs'!$C$3:$C$29,VLOOKUP(BB$1,$A$7:$B$26,2,0)),""),""),"") | BC4: =IFERROR(IF(VLOOKUP(BC$1,$A$7:$C$26,3,0),VLOOKUP($U4,INDIRECT("'"&SUBSTITUTE(VLOOKUP(BC$1,$A$7:$C$26,2,0),"Saison","Stats",1)&"'!$A:$J"),BC$2,0),""),"") | BD4: =IFERROR(IF(VLOOKUP(BD$1,$A$7:$C$26,3,0),VLOOKUP($U4,INDIRECT("'"&SUBSTITUTE(VLOOKUP(BD$1,$A$7:$C$26,2,0),"Saison","Stats",1)&"'!$A:$J"),BD$2,0),""),"") | BE4: =IFERROR(IF(VLOOKUP(BE$1,$A$7:$C$26,3,0),VLOOKUP($U4,INDIRECT("'"&SUBSTITUTE(VLOOKUP(BE$1,$A$7:$C$26,2,0),"Saison","Stats",1)&"'!$A:$J"),BE$2,0),""),"") | BF4: =IFERROR(IF(VLOOKUP(BF$1,$A$7:$C$26,3,0),VLOOKUP($U4,INDIRECT("'"&SUBSTITUTE(VLOOKUP(BF$1,$A$7:$C$26,2,0),"Saison","Stats",1)&"'!$A:$J"),BF$2,0),""),"") | BG4: =IFERROR(IF(VLOOKUP(BG$1,$A$7:$C$26,3,0),VLOOKUP($U4,INDIRECT("'"&SUBSTITUTE(VLOOKUP(BG$1,$A$7:$C$26,2,0),"Saison","Stats",1)&"'!$A:$J"),BG$2,0),""),"") | BH4: =IFERROR(IF(VLOOKUP(BH$1,$A$7:$C$26,3,0),VLOOKUP($U4,INDIRECT("'"&SUBSTITUTE(VLOOKUP(BH$1,$A$7:$C$26,2,0),"Saison","Stats",1)&"'!$A:$J"),BH$2,0),""),"") | BI4: =IFERROR(IF(VLOOKUP(BI$1,$A$7:$C$26,3,0),VLOOKUP($U4,INDIRECT("'"&SUBSTITUTE(VLOOKUP(BI$1,$A$7:$C$26,2,0),"Saison","Stats",1)&"'!$A:$J"),BI$2,0),""),"") | BJ4: =IFERROR(IF(VLOOKUP(BJ$1,$A$7:$C$26,3,0),VLOOKUP($U4,INDIRECT("'"&SUBSTITUTE(VLOOKUP(BJ$1,$A$7:$C$26,2,0),"Saison","Stats",1)&"'!$A:$J"),BJ$2,0),""),"") | BK4: =IFERROR(IF(VLOOKUP(BK$1,$A$7:$C$26,3,0),VLOOKUP($U4,INDIRECT("'"&SUBSTITUTE(VLOOKUP(BK$1,$A$7:$C$26,2,0),"Saison","Stats",1)&"'!$A:$J"),BK$2,0),""),"") | BL4: =IFERROR(IF(VLOOKUP(BL$1,$A$7:$C$26,3,0),IF(ISNUMBER(BC4),SUMIFS('Stats Coachs'!$F$3:$F$29,'Stats Coachs'!$C$3:$C$29,VLOOKUP(BL$1,$A$7:$B$26,2,0)),""),""),"") | BM4: =IFERROR(IF(VLOOKUP(BM$1,$A$7:$C$26,3,0),VLOOKUP($U4,INDIRECT("'"&SUBSTITUTE(VLOOKUP(BM$1,$A$7:$C$26,2,0),"Saison","Stats",1)&"'!$A:$J"),BM$2,0),""),"") | BN4: =IFERROR(IF(VLOOKUP(BN$1,$A$7:$C$26,3,0),VLOOKUP($U4,INDIRECT("'"&SUBSTITUTE(VLOOKUP(BN$1,$A$7:$C$26,2,0),"Saison","Stats",1)&"'!$A:$J"),BN$2,0),""),"") | BO4: =IFERROR(IF(VLOOKUP(BO$1,$A$7:$C$26,3,0),VLOOKUP($U4,INDIRECT("'"&SUBSTITUTE(VLOOKUP(BO$1,$A$7:$C$26,2,0),"Saison","Stats",1)&"'!$A:$J"),BO$2,0),""),"") | BP4: =IFERROR(IF(VLOOKUP(BP$1,$A$7:$C$26,3,0),VLOOKUP($U4,INDIRECT("'"&SUBSTITUTE(VLOOKUP(BP$1,$A$7:$C$26,2,0),"Saison","Stats",1)&"'!$A:$J"),BP$2,0),""),"") | BQ4: =IFERROR(IF(VLOOKUP(BQ$1,$A$7:$C$26,3,0),VLOOKUP($U4,INDIRECT("'"&SUBSTITUTE(VLOOKUP(BQ$1,$A$7:$C$26,2,0),"Saison","Stats",1)&"'!$A:$J"),BQ$2,0),""),"") | BR4: =IFERROR(IF(VLOOKUP(BR$1,$A$7:$C$26,3,0),VLOOKUP($U4,INDIRECT("'"&SUBSTITUTE(VLOOKUP(BR$1,$A$7:$C$26,2,0),"Saison","Stats",1)&"'!$A:$J"),BR$2,0),""),"") | BS4: =IFERROR(IF(VLOOKUP(BS$1,$A$7:$C$26,3,0),VLOOKUP($U4,INDIRECT("'"&SUBSTITUTE(VLOOKUP(BS$1,$A$7:$C$26,2,0),"Saison","Stats",1)&"'!$A:$J"),BS$2,0),""),"") | BT4: =IFERROR(IF(VLOOKUP(BT$1,$A$7:$C$26,3,0),VLOOKUP($U4,INDIRECT("'"&SUBSTITUTE(VLOOKUP(BT$1,$A$7:$C$26,2,0),"Saison","Stats",1)&"'!$A:$J"),BT$2,0),""),"") | BU4: =IFERROR(IF(VLOOKUP(BU$1,$A$7:$C$26,3,0),VLOOKUP($U4,INDIRECT("'"&SUBSTITUTE(VLOOKUP(BU$1,$A$7:$C$26,2,0),"Saison","Stats",1)&"'!$A:$J"),BU$2,0),""),"") | BV4: =IFERROR(IF(VLOOKUP(BV$1,$A$7:$C$26,3,0),IF(ISNUMBER(BM4),SUMIFS('Stats Coachs'!$F$3:$F$29,'Stats Coachs'!$C$3:$C$29,VLOOKUP(BV$1,$A$7:$B$26,2,0)),""),""),"") | BW4: =IFERROR(IF(VLOOKUP(BW$1,$A$7:$C$26,3,0),VLOOKUP($U4,INDIRECT("'"&SUBSTITUTE(VLOOKUP(BW$1,$A$7:$C$26,2,0),"Saison","Stats",1)&"'!$A:$J"),BW$2,0),""),"") | BX4: =IFERROR(IF(VLOOKUP(BX$1,$A$7:$C$26,3,0),VLOOKUP($U4,INDIRECT("'"&SUBSTITUTE(VLOOKUP(BX$1,$A$7:$C$26,2,0),"Saison","Stats",1)&"'!$A:$J"),BX$2,0),""),"") | BY4: =IFERROR(IF(VLOOKUP(BY$1,$A$7:$C$26,3,0),VLOOKUP($U4,INDIRECT("'"&SUBSTITUTE(VLOOKUP(BY$1,$A$7:$C$26,2,0),"Saison","Stats",1)&"'!$A:$J"),BY$2,0),""),"") | BZ4: =IFERROR(IF(VLOOKUP(BZ$1,$A$7:$C$26,3,0),VLOOKUP($U4,INDIRECT("'"&SUBSTITUTE(VLOOKUP(BZ$1,$A$7:$C$26,2,0),"Saison","Stats",1)&"'!$A:$J"),BZ$2,0),""),"") | CA4: =IFERROR(IF(VLOOKUP(CA$1,$A$7:$C$26,3,0),VLOOKUP($U4,INDIRECT("'"&SUBSTITUTE(VLOOKUP(CA$1,$A$7:$C$26,2,0),"Saison","Stats",1)&"'!$A:$J"),CA$2,0),""),"") | CB4: =IFERROR(IF(VLOOKUP(CB$1,$A$7:$C$26,3,0),VLOOKUP($U4,INDIRECT("'"&SUBSTITUTE(VLOOKUP(CB$1,$A$7:$C$26,2,0),"Saison","Stats",1)&"'!$A:$J"),CB$2,0),""),"") | CC4: =IFERROR(IF(VLOOKUP(CC$1,$A$7:$C$26,3,0),VLOOKUP($U4,INDIRECT("'"&SUBSTITUTE(VLOOKUP(CC$1,$A$7:$C$26,2,0),"Saison","Stats",1)&"'!$A:$J"),CC$2,0),""),"") | CD4: =IFERROR(IF(VLOOKUP(CD$1,$A$7:$C$26,3,0),VLOOKUP($U4,INDIRECT("'"&SUBSTITUTE(VLOOKUP(CD$1,$A$7:$C$26,2,0),"Saison","Stats",1)&"'!$A:$J"),CD$2,0),""),"") | CE4: =IFERROR(IF(VLOOKUP(CE$1,$A$7:$C$26,3,0),VLOOKUP($U4,INDIRECT("'"&SUBSTITUTE(VLOOKUP(CE$1,$A$7:$C$26,2,0),"Saison","Stats",1)&"'!$A:$J"),CE$2,0),""),"") | CF4: =IFERROR(IF(VLOOKUP(CF$1,$A$7:$C$26,3,0),IF(ISNUMBER(BW4),SUMIFS('Stats Coachs'!$F$3:$F$29,'Stats Coachs'!$C$3:$C$29,VLOOKUP(CF$1,$A$7:$B$26,2,0)),""),""),"") | CG4: =IFERROR(IF(VLOOKUP(CG$1,$A$7:$C$26,3,0),VLOOKUP($U4,INDIRECT("'"&SUBSTITUTE(VLOOKUP(CG$1,$A$7:$C$26,2,0),"Saison","Stats",1)&"'!$A:$J"),CG$2,0),""),"") | CH4: =IFERROR(IF(VLOOKUP(CH$1,$A$7:$C$26,3,0),VLOOKUP($U4,INDIRECT("'"&SUBSTITUTE(VLOOKUP(CH$1,$A$7:$C$26,2,0),"Saison","Stats",1)&"'!$A:$J"),CH$2,0),""),"") | CI4: =IFERROR(IF(VLOOKUP(CI$1,$A$7:$C$26,3,0),VLOOKUP($U4,INDIRECT("'"&SUBSTITUTE(VLOOKUP(CI$1,$A$7:$C$26,2,0),"Saison","Stats",1)&"'!$A:$J"),CI$2,0),""),"") | CJ4: =IFERROR(IF(VLOOKUP(CJ$1,$A$7:$C$26,3,0),VLOOKUP($U4,INDIRECT("'"&SUBSTITUTE(VLOOKUP(CJ$1,$A$7:$C$26,2,0),"Saison","Stats",1)&"'!$A:$J"),CJ$2,0),""),"") | CK4: =IFERROR(IF(VLOOKUP(CK$1,$A$7:$C$26,3,0),VLOOKUP($U4,INDIRECT("'"&SUBSTITUTE(VLOOKUP(CK$1,$A$7:$C$26,2,0),"Saison","Stats",1)&"'!$A:$J"),CK$2,0),""),"") | CL4: =IFERROR(IF(VLOOKUP(CL$1,$A$7:$C$26,3,0),VLOOKUP($U4,INDIRECT("'"&SUBSTITUTE(VLOOKUP(CL$1,$A$7:$C$26,2,0),"Saison","Stats",1)&"'!$A:$J"),CL$2,0),""),"") | CM4: =IFERROR(IF(VLOOKUP(CM$1,$A$7:$C$26,3,0),VLOOKUP($U4,INDIRECT("'"&SUBSTITUTE(VLOOKUP(CM$1,$A$7:$C$26,2,0),"Saison","Stats",1)&"'!$A:$J"),CM$2,0),""),"") | CN4: =IFERROR(IF(VLOOKUP(CN$1,$A$7:$C$26,3,0),VLOOKUP($U4,INDIRECT("'"&SUBSTITUTE(VLOOKUP(CN$1,$A$7:$C$26,2,0),"Saison","Stats",1)&"'!$A:$J"),CN$2,0),""),"") | CO4: =IFERROR(IF(VLOOKUP(CO$1,$A$7:$C$26,3,0),VLOOKUP($U4,INDIRECT("'"&SUBSTITUTE(VLOOKUP(CO$1,$A$7:$C$26,2,0),"Saison","Stats",1)&"'!$A:$J"),CO$2,0),""),"") | CP4: =IFERROR(IF(VLOOKUP(CP$1,$A$7:$C$26,3,0),IF(ISNUMBER(CG4),SUMIFS('Stats Coachs'!$F$3:$F$29,'Stats Coachs'!$C$3:$C$29,VLOOKUP(CP$1,$A$7:$B$26,2,0)),""),""),"") | CQ4: =IFERROR(IF(VLOOKUP(CQ$1,$A$7:$C$26,3,0),VLOOKUP($U4,INDIRECT("'"&SUBSTITUTE(VLOOKUP(CQ$1,$A$7:$C$26,2,0),"Saison","Stats",1)&"'!$A:$J"),CQ$2,0),""),"") | CR4: =IFERROR(IF(VLOOKUP(CR$1,$A$7:$C$26,3,0),VLOOKUP($U4,INDIRECT("'"&SUBSTITUTE(VLOOKUP(CR$1,$A$7:$C$26,2,0),"Saison","Stats",1)&"'!$A:$J"),CR$2,0),""),"") | CS4: =IFERROR(IF(VLOOKUP(CS$1,$A$7:$C$26,3,0),VLOOKUP($U4,INDIRECT("'"&SUBSTITUTE(VLOOKUP(CS$1,$A$7:$C$26,2,0),"Saison","Stats",1)&"'!$A:$J"),CS$2,0),""),"") | CT4: =IFERROR(IF(VLOOKUP(CT$1,$A$7:$C$26,3,0),VLOOKUP($U4,INDIRECT("'"&SUBSTITUTE(VLOOKUP(CT$1,$A$7:$C$26,2,0),"Saison","Stats",1)&"'!$A:$J"),CT$2,0),""),"") | CU4: =IFERROR(IF(VLOOKUP(CU$1,$A$7:$C$26,3,0),VLOOKUP($U4,INDIRECT("'"&SUBSTITUTE(VLOOKUP(CU$1,$A$7:$C$26,2,0),"Saison","Stats",1)&"'!$A:$J"),CU$2,0),""),"") | CV4: =IFERROR(IF(VLOOKUP(CV$1,$A$7:$C$26,3,0),VLOOKUP($U4,INDIRECT("'"&SUBSTITUTE(VLOOKUP(CV$1,$A$7:$C$26,2,0),"Saison","Stats",1)&"'!$A:$J"),CV$2,0),""),"") | CW4: =IFERROR(IF(VLOOKUP(CW$1,$A$7:$C$26,3,0),VLOOKUP($U4,INDIRECT("'"&SUBSTITUTE(VLOOKUP(CW$1,$A$7:$C$26,2,0),"Saison","Stats",1)&"'!$A:$J"),CW$2,0),""),"") | CX4: =IFERROR(IF(VLOOKUP(CX$1,$A$7:$C$26,3,0),VLOOKUP($U4,INDIRECT("'"&SUBSTITUTE(VLOOKUP(CX$1,$A$7:$C$26,2,0),"Saison","Stats",1)&"'!$A:$J"),CX$2,0),""),"") | CY4: =IFERROR(IF(VLOOKUP(CY$1,$A$7:$C$26,3,0),VLOOKUP($U4,INDIRECT("'"&SUBSTITUTE(VLOOKUP(CY$1,$A$7:$C$26,2,0),"Saison","Stats",1)&"'!$A:$J"),CY$2,0),""),"") | CZ4: =IFERROR(IF(VLOOKUP(CZ$1,$A$7:$C$26,3,0),IF(ISNUMBER(CQ4),SUMIFS('Stats Coachs'!$F$3:$F$29,'Stats Coachs'!$C$3:$C$29,VLOOKUP(CZ$1,$A$7:$B$26,2,0)),""),""),"") | DA4: =IFERROR(IF(VLOOKUP(DA$1,$A$7:$C$26,3,0),VLOOKUP($U4,INDIRECT("'"&SUBSTITUTE(VLOOKUP(DA$1,$A$7:$C$26,2,0),"Saison","Stats",1)&"'!$A:$J"),DA$2,0),""),"") | DB4: =IFERROR(IF(VLOOKUP(DB$1,$A$7:$C$26,3,0),VLOOKUP($U4,INDIRECT("'"&SUBSTITUTE(VLOOKUP(DB$1,$A$7:$C$26,2,0),"Saison","Stats",1)&"'!$A:$J"),DB$2,0),""),"") | DC4: =IFERROR(IF(VLOOKUP(DC$1,$A$7:$C$26,3,0),VLOOKUP($U4,INDIRECT("'"&SUBSTITUTE(VLOOKUP(DC$1,$A$7:$C$26,2,0),"Saison","Stats",1)&"'!$A:$J"),DC$2,0),""),"") | DD4: =IFERROR(IF(VLOOKUP(DD$1,$A$7:$C$26,3,0),VLOOKUP($U4,INDIRECT("'"&SUBSTITUTE(VLOOKUP(DD$1,$A$7:$C$26,2,0),"Saison","Stats",1)&"'!$A:$J"),DD$2,0),""),"") | DE4: =IFERROR(IF(VLOOKUP(DE$1,$A$7:$C$26,3,0),VLOOKUP($U4,INDIRECT("'"&SUBSTITUTE(VLOOKUP(DE$1,$A$7:$C$26,2,0),"Saison","Stats",1)&"'!$A:$J"),DE$2,0),""),"") | DF4: =IFERROR(IF(VLOOKUP(DF$1,$A$7:$C$26,3,0),VLOOKUP($U4,INDIRECT("'"&SUBSTITUTE(VLOOKUP(DF$1,$A$7:$C$26,2,0),"Saison","Stats",1)&"'!$A:$J"),DF$2,0),""),"") | DG4: =IFERROR(IF(VLOOKUP(DG$1,$A$7:$C$26,3,0),VLOOKUP($U4,INDIRECT("'"&SUBSTITUTE(VLOOKUP(DG$1,$A$7:$C$26,2,0),"Saison","Stats",1)&"'!$A:$J"),DG$2,0),""),"") | DH4: =IFERROR(IF(VLOOKUP(DH$1,$A$7:$C$26,3,0),VLOOKUP($U4,INDIRECT("'"&SUBSTITUTE(VLOOKUP(DH$1,$A$7:$C$26,2,0),"Saison","Stats",1)&"'!$A:$J"),DH$2,0),""),"") | DI4: =IFERROR(IF(VLOOKUP(DI$1,$A$7:$C$26,3,0),VLOOKUP($U4,INDIRECT("'"&SUBSTITUTE(VLOOKUP(DI$1,$A$7:$C$26,2,0),"Saison","Stats",1)&"'!$A:$J"),DI$2,0),""),"") | DJ4: =IFERROR(IF(VLOOKUP(DJ$1,$A$7:$C$26,3,0),IF(ISNUMBER(DA4),SUMIFS('Stats Coachs'!$F$3:$F$29,'Stats Coachs'!$C$3:$C$29,VLOOKUP(DJ$1,$A$7:$B$26,2,0)),""),""),"") | DK4: =IFERROR(IF(VLOOKUP(DK$1,$A$7:$C$26,3,0),VLOOKUP($U4,INDIRECT("'"&SUBSTITUTE(VLOOKUP(DK$1,$A$7:$C$26,2,0),"Saison","Stats",1)&"'!$A:$J"),DK$2,0),""),"") | DL4: =IFERROR(IF(VLOOKUP(DL$1,$A$7:$C$26,3,0),VLOOKUP($U4,INDIRECT("'"&SUBSTITUTE(VLOOKUP(DL$1,$A$7:$C$26,2,0),"Saison","Stats",1)&"'!$A:$J"),DL$2,0),""),"") | DM4: =IFERROR(IF(VLOOKUP(DM$1,$A$7:$C$26,3,0),VLOOKUP($U4,INDIRECT("'"&SUBSTITUTE(VLOOKUP(DM$1,$A$7:$C$26,2,0),"Saison","Stats",1)&"'!$A:$J"),DM$2,0),""),"") | DN4: =IFERROR(IF(VLOOKUP(DN$1,$A$7:$C$26,3,0),VLOOKUP($U4,INDIRECT("'"&SUBSTITUTE(VLOOKUP(DN$1,$A$7:$C$26,2,0),"Saison","Stats",1)&"'!$A:$J"),DN$2,0),""),"") | DO4: =IFERROR(IF(VLOOKUP(DO$1,$A$7:$C$26,3,0),VLOOKUP($U4,INDIRECT("'"&SUBSTITUTE(VLOOKUP(DO$1,$A$7:$C$26,2,0),"Saison","Stats",1)&"'!$A:$J"),DO$2,0),""),"") | DP4: =IFERROR(IF(VLOOKUP(DP$1,$A$7:$C$26,3,0),VLOOKUP($U4,INDIRECT("'"&SUBSTITUTE(VLOOKUP(DP$1,$A$7:$C$26,2,0),"Saison","Stats",1)&"'!$A:$J"),DP$2,0),""),"") | DQ4: =IFERROR(IF(VLOOKUP(DQ$1,$A$7:$C$26,3,0),VLOOKUP($U4,INDIRECT("'"&SUBSTITUTE(VLOOKUP(DQ$1,$A$7:$C$26,2,0),"Saison","Stats",1)&"'!$A:$J"),DQ$2,0),""),"") | DR4: =IFERROR(IF(VLOOKUP(DR$1,$A$7:$C$26,3,0),VLOOKUP($U4,INDIRECT("'"&SUBSTITUTE(VLOOKUP(DR$1,$A$7:$C$26,2,0),"Saison","Stats",1)&"'!$A:$J"),DR$2,0),""),"") | DS4: =IFERROR(IF(VLOOKUP(DS$1,$A$7:$C$26,3,0),VLOOKUP($U4,INDIRECT("'"&SUBSTITUTE(VLOOKUP(DS$1,$A$7:$C$26,2,0),"Saison","Stats",1)&"'!$A:$J"),DS$2,0),""),"") | DT4: =IFERROR(IF(VLOOKUP(DT$1,$A$7:$C$26,3,0),IF(ISNUMBER(DK4),SUMIFS('Stats Coachs'!$F$3:$F$29,'Stats Coachs'!$C$3:$C$29,VLOOKUP(DT$1,$A$7:$B$26,2,0)),""),""),"") | DU4: =IFERROR(IF(VLOOKUP(DU$1,$A$7:$C$26,3,0),VLOOKUP($U4,INDIRECT("'"&SUBSTITUTE(VLOOKUP(DU$1,$A$7:$C$26,2,0),"Saison","Stats",1)&"'!$A:$J"),DU$2,0),""),"") | DV4: =IFERROR(IF(VLOOKUP(DV$1,$A$7:$C$26,3,0),VLOOKUP($U4,INDIRECT("'"&SUBSTITUTE(VLOOKUP(DV$1,$A$7:$C$26,2,0),"Saison","Stats",1)&"'!$A:$J"),DV$2,0),""),"") | DW4: =IFERROR(IF(VLOOKUP(DW$1,$A$7:$C$26,3,0),VLOOKUP($U4,INDIRECT("'"&SUBSTITUTE(VLOOKUP(DW$1,$A$7:$C$26,2,0),"Saison","Stats",1)&"'!$A:$J"),DW$2,0),""),"") | DX4: =IFERROR(IF(VLOOKUP(DX$1,$A$7:$C$26,3,0),VLOOKUP($U4,INDIRECT("'"&SUBSTITUTE(VLOOKUP(DX$1,$A$7:$C$26,2,0),"Saison","Stats",1)&"'!$A:$J"),DX$2,0),""),"") | DY4: =IFERROR(IF(VLOOKUP(DY$1,$A$7:$C$26,3,0),VLOOKUP($U4,INDIRECT("'"&SUBSTITUTE(VLOOKUP(DY$1,$A$7:$C$26,2,0),"Saison","Stats",1)&"'!$A:$J"),DY$2,0),""),"") | DZ4: =IFERROR(IF(VLOOKUP(DZ$1,$A$7:$C$26,3,0),VLOOKUP($U4,INDIRECT("'"&SUBSTITUTE(VLOOKUP(DZ$1,$A$7:$C$26,2,0),"Saison","Stats",1)&"'!$A:$J"),DZ$2,0),""),"") | EA4: =IFERROR(IF(VLOOKUP(EA$1,$A$7:$C$26,3,0),VLOOKUP($U4,INDIRECT("'"&SUBSTITUTE(VLOOKUP(EA$1,$A$7:$C$26,2,0),"Saison","Stats",1)&"'!$A:$J"),EA$2,0),""),"") | EB4: =IFERROR(IF(VLOOKUP(EB$1,$A$7:$C$26,3,0),VLOOKUP($U4,INDIRECT("'"&SUBSTITUTE(VLOOKUP(EB$1,$A$7:$C$26,2,0),"Saison","Stats",1)&"'!$A:$J"),EB$2,0),""),"") | EC4: =IFERROR(IF(VLOOKUP(EC$1,$A$7:$C$26,3,0),VLOOKUP($U4,INDIRECT("'"&SUBSTITUTE(VLOOKUP(EC$1,$A$7:$C$26,2,0),"Saison","Stats",1)&"'!$A:$J"),EC$2,0),""),"") | ED4: =IFERROR(IF(VLOOKUP(ED$1,$A$7:$C$26,3,0),IF(ISNUMBER(DU4),SUMIFS('Stats Coachs'!$F$3:$F$29,'Stats Coachs'!$C$3:$C$29,VLOOKUP(ED$1,$A$7:$B$26,2,0)),""),""),"") | EE4: =IFERROR(IF(VLOOKUP(EE$1,$A$7:$C$26,3,0),VLOOKUP($U4,INDIRECT("'"&SUBSTITUTE(VLOOKUP(EE$1,$A$7:$C$26,2,0),"Saison","Stats",1)&"'!$A:$J"),EE$2,0),""),"") | EF4: =IFERROR(IF(VLOOKUP(EF$1,$A$7:$C$26,3,0),VLOOKUP($U4,INDIRECT("'"&SUBSTITUTE(VLOOKUP(EF$1,$A$7:$C$26,2,0),"Saison","Stats",1)&"'!$A:$J"),EF$2,0),""),"") | EG4: =IFERROR(IF(VLOOKUP(EG$1,$A$7:$C$26,3,0),VLOOKUP($U4,INDIRECT("'"&SUBSTITUTE(VLOOKUP(EG$1,$A$7:$C$26,2,0),"Saison","Stats",1)&"'!$A:$J"),EG$2,0),""),"") | EH4: =IFERROR(IF(VLOOKUP(EH$1,$A$7:$C$26,3,0),VLOOKUP($U4,INDIRECT("'"&SUBSTITUTE(VLOOKUP(EH$1,$A$7:$C$26,2,0),"Saison","Stats",1)&"'!$A:$J"),EH$2,0),""),"") | EI4: =IFERROR(IF(VLOOKUP(EI$1,$A$7:$C$26,3,0),VLOOKUP($U4,INDIRECT("'"&SUBSTITUTE(VLOOKUP(EI$1,$A$7:$C$26,2,0),"Saison","Stats",1)&"'!$A:$J"),EI$2,0),""),"") | EJ4: =IFERROR(IF(VLOOKUP(EJ$1,$A$7:$C$26,3,0),VLOOKUP($U4,INDIRECT("'"&SUBSTITUTE(VLOOKUP(EJ$1,$A$7:$C$26,2,0),"Saison","Stats",1)&"'!$A:$J"),EJ$2,0),""),"") | EK4: =IFERROR(IF(VLOOKUP(EK$1,$A$7:$C$26,3,0),VLOOKUP($U4,INDIRECT("'"&SUBSTITUTE(VLOOKUP(EK$1,$A$7:$C$26,2,0),"Saison","Stats",1)&"'!$A:$J"),EK$2,0),""),"") | EL4: =IFERROR(IF(VLOOKUP(EL$1,$A$7:$C$26,3,0),VLOOKUP($U4,INDIRECT("'"&SUBSTITUTE(VLOOKUP(EL$1,$A$7:$C$26,2,0),"Saison","Stats",1)&"'!$A:$J"),EL$2,0),""),"") | EM4: =IFERROR(IF(VLOOKUP(EM$1,$A$7:$C$26,3,0),VLOOKUP($U4,INDIRECT("'"&SUBSTITUTE(VLOOKUP(EM$1,$A$7:$C$26,2,0),"Saison","Stats",1)&"'!$A:$J"),EM$2,0),""),"") | EN4: =IFERROR(IF(VLOOKUP(EN$1,$A$7:$C$26,3,0),IF(ISNUMBER(EE4),SUMIFS('Stats Coachs'!$F$3:$F$29,'Stats Coachs'!$C$3:$C$29,VLOOKUP(EN$1,$A$7:$B$26,2,0)),""),""),"") | EO4: =IFERROR(IF(VLOOKUP(EO$1,$A$7:$C$26,3,0),VLOOKUP($U4,INDIRECT("'"&SUBSTITUTE(VLOOKUP(EO$1,$A$7:$C$26,2,0),"Saison","Stats",1)&"'!$A:$J"),EO$2,0),""),"") | EP4: =IFERROR(IF(VLOOKUP(EP$1,$A$7:$C$26,3,0),VLOOKUP($U4,INDIRECT("'"&SUBSTITUTE(VLOOKUP(EP$1,$A$7:$C$26,2,0),"Saison","Stats",1)&"'!$A:$J"),EP$2,0),""),"") | EQ4: =IFERROR(IF(VLOOKUP(EQ$1,$A$7:$C$26,3,0),VLOOKUP($U4,INDIRECT("'"&SUBSTITUTE(VLOOKUP(EQ$1,$A$7:$C$26,2,0),"Saison","Stats",1)&"'!$A:$J"),EQ$2,0),""),"") | ER4: =IFERROR(IF(VLOOKUP(ER$1,$A$7:$C$26,3,0),VLOOKUP($U4,INDIRECT("'"&SUBSTITUTE(VLOOKUP(ER$1,$A$7:$C$26,2,0),"Saison","Stats",1)&"'!$A:$J"),ER$2,0),""),"") | ES4: =IFERROR(IF(VLOOKUP(ES$1,$A$7:$C$26,3,0),VLOOKUP($U4,INDIRECT("'"&SUBSTITUTE(VLOOKUP(ES$1,$A$7:$C$26,2,0),"Saison","Stats",1)&"'!$A:$J"),ES$2,0),""),"") | ET4: =IFERROR(IF(VLOOKUP(ET$1,$A$7:$C$26,3,0),VLOOKUP($U4,INDIRECT("'"&SUBSTITUTE(VLOOKUP(ET$1,$A$7:$C$26,2,0),"Saison","Stats",1)&"'!$A:$J"),ET$2,0),""),"") | EU4: =IFERROR(IF(VLOOKUP(EU$1,$A$7:$C$26,3,0),VLOOKUP($U4,INDIRECT("'"&SUBSTITUTE(VLOOKUP(EU$1,$A$7:$C$26,2,0),"Saison","Stats",1)&"'!$A:$J"),EU$2,0),""),"") | EV4: =IFERROR(IF(VLOOKUP(EV$1,$A$7:$C$26,3,0),VLOOKUP($U4,INDIRECT("'"&SUBSTITUTE(VLOOKUP(EV$1,$A$7:$C$26,2,0),"Saison","Stats",1)&"'!$A:$J"),EV$2,0),""),"") | EW4: =IFERROR(IF(VLOOKUP(EW$1,$A$7:$C$26,3,0),VLOOKUP($U4,INDIRECT("'"&SUBSTITUTE(VLOOKUP(EW$1,$A$7:$C$26,2,0),"Saison","Stats",1)&"'!$A:$J"),EW$2,0),""),"") | EX4: =IFERROR(IF(VLOOKUP(EX$1,$A$7:$C$26,3,0),IF(ISNUMBER(EO4),SUMIFS('Stats Coachs'!$F$3:$F$29,'Stats Coachs'!$C$3:$C$29,VLOOKUP(EX$1,$A$7:$B$26,2,0)),""),""),"") | EY4: =IFERROR(IF(VLOOKUP(EY$1,$A$7:$C$26,3,0),VLOOKUP($U4,INDIRECT("'"&SUBSTITUTE(VLOOKUP(EY$1,$A$7:$C$26,2,0),"Saison","Stats",1)&"'!$A:$J"),EY$2,0),""),"") | EZ4: =IFERROR(IF(VLOOKUP(EZ$1,$A$7:$C$26,3,0),VLOOKUP($U4,INDIRECT("'"&SUBSTITUTE(VLOOKUP(EZ$1,$A$7:$C$26,2,0),"Saison","Stats",1)&"'!$A:$J"),EZ$2,0),""),"") | FA4: =IFERROR(IF(VLOOKUP(FA$1,$A$7:$C$26,3,0),VLOOKUP($U4,INDIRECT("'"&SUBSTITUTE(VLOOKUP(FA$1,$A$7:$C$26,2,0),"Saison","Stats",1)&"'!$A:$J"),FA$2,0),""),"") | FB4: =IFERROR(IF(VLOOKUP(FB$1,$A$7:$C$26,3,0),VLOOKUP($U4,INDIRECT("'"&SUBSTITUTE(VLOOKUP(FB$1,$A$7:$C$26,2,0),"Saison","Stats",1)&"'!$A:$J"),FB$2,0),""),"") | FC4: =IFERROR(IF(VLOOKUP(FC$1,$A$7:$C$26,3,0),VLOOKUP($U4,INDIRECT("'"&SUBSTITUTE(VLOOKUP(FC$1,$A$7:$C$26,2,0),"Saison","Stats",1)&"'!$A:$J"),FC$2,0),""),"") | FD4: =IFERROR(IF(VLOOKUP(FD$1,$A$7:$C$26,3,0),VLOOKUP($U4,INDIRECT("'"&SUBSTITUTE(VLOOKUP(FD$1,$A$7:$C$26,2,0),"Saison","Stats",1)&"'!$A:$J"),FD$2,0),""),"") | FE4: =IFERROR(IF(VLOOKUP(FE$1,$A$7:$C$26,3,0),VLOOKUP($U4,INDIRECT("'"&SUBSTITUTE(VLOOKUP(FE$1,$A$7:$C$26,2,0),"Saison","Stats",1)&"'!$A:$J"),FE$2,0),""),"") | FF4: =IFERROR(IF(VLOOKUP(FF$1,$A$7:$C$26,3,0),VLOOKUP($U4,INDIRECT("'"&SUBSTITUTE(VLOOKUP(FF$1,$A$7:$C$26,2,0),"Saison","Stats",1)&"'!$A:$J"),FF$2,0),""),"") | FG4: =IFERROR(IF(VLOOKUP(FG$1,$A$7:$C$26,3,0),VLOOKUP($U4,INDIRECT("'"&SUBSTITUTE(VLOOKUP(FG$1,$A$7:$C$26,2,0),"Saison","Stats",1)&"'!$A:$J"),FG$2,0),""),"") | FH4: =IFERROR(IF(VLOOKUP(FH$1,$A$7:$C$26,3,0),IF(ISNUMBER(EY4),SUMIFS('Stats Coachs'!$F$3:$F$29,'Stats Coachs'!$C$3:$C$29,VLOOKUP(FH$1,$A$7:$B$26,2,0)),""),""),"") | FI4: =IFERROR(IF(VLOOKUP(FI$1,$A$7:$C$26,3,0),VLOOKUP($U4,INDIRECT("'"&SUBSTITUTE(VLOOKUP(FI$1,$A$7:$C$26,2,0),"Saison","Stats",1)&"'!$A:$J"),FI$2,0),""),"") | FJ4: =IFERROR(IF(VLOOKUP(FJ$1,$A$7:$C$26,3,0),VLOOKUP($U4,INDIRECT("'"&SUBSTITUTE(VLOOKUP(FJ$1,$A$7:$C$26,2,0),"Saison","Stats",1)&"'!$A:$J"),FJ$2,0),""),"") | FK4: =IFERROR(IF(VLOOKUP(FK$1,$A$7:$C$26,3,0),VLOOKUP($U4,INDIRECT("'"&SUBSTITUTE(VLOOKUP(FK$1,$A$7:$C$26,2,0),"Saison","Stats",1)&"'!$A:$J"),FK$2,0),""),"") | FL4: =IFERROR(IF(VLOOKUP(FL$1,$A$7:$C$26,3,0),VLOOKUP($U4,INDIRECT("'"&SUBSTITUTE(VLOOKUP(FL$1,$A$7:$C$26,2,0),"Saison","Stats",1)&"'!$A:$J"),FL$2,0),""),"") | FM4: =IFERROR(IF(VLOOKUP(FM$1,$A$7:$C$26,3,0),VLOOKUP($U4,INDIRECT("'"&SUBSTITUTE(VLOOKUP(FM$1,$A$7:$C$26,2,0),"Saison","Stats",1)&"'!$A:$J"),FM$2,0),""),"") | FN4: =IFERROR(IF(VLOOKUP(FN$1,$A$7:$C$26,3,0),VLOOKUP($U4,INDIRECT("'"&SUBSTITUTE(VLOOKUP(FN$1,$A$7:$C$26,2,0),"Saison","Stats",1)&"'!$A:$J"),FN$2,0),""),"") | FO4: =IFERROR(IF(VLOOKUP(FO$1,$A$7:$C$26,3,0),VLOOKUP($U4,INDIRECT("'"&SUBSTITUTE(VLOOKUP(FO$1,$A$7:$C$26,2,0),"Saison","Stats",1)&"'!$A:$J"),FO$2,0),""),"") | FP4: =IFERROR(IF(VLOOKUP(FP$1,$A$7:$C$26,3,0),VLOOKUP($U4,INDIRECT("'"&SUBSTITUTE(VLOOKUP(FP$1,$A$7:$C$26,2,0),"Saison","Stats",1)&"'!$A:$J"),FP$2,0),""),"") | FQ4: =IFERROR(IF(VLOOKUP(FQ$1,$A$7:$C$26,3,0),VLOOKUP($U4,INDIRECT("'"&SUBSTITUTE(VLOOKUP(FQ$1,$A$7:$C$26,2,0),"Saison","Stats",1)&"'!$A:$J"),FQ$2,0),""),"") | FR4: =IFERROR(IF(VLOOKUP(FR$1,$A$7:$C$26,3,0),IF(ISNUMBER(FI4),SUMIFS('Stats Coachs'!$F$3:$F$29,'Stats Coachs'!$C$3:$C$29,VLOOKUP(FR$1,$A$7:$B$26,2,0)),""),""),"") | FS4: =IFERROR(IF(VLOOKUP(FS$1,$A$7:$C$26,3,0),VLOOKUP($U4,INDIRECT("'"&SUBSTITUTE(VLOOKUP(FS$1,$A$7:$C$26,2,0),"Saison","Stats",1)&"'!$A:$J"),FS$2,0),""),"") | FT4: =IFERROR(IF(VLOOKUP(FT$1,$A$7:$C$26,3,0),VLOOKUP($U4,INDIRECT("'"&SUBSTITUTE(VLOOKUP(FT$1,$A$7:$C$26,2,0),"Saison","Stats",1)&"'!$A:$J"),FT$2,0),""),"") | FU4: =IFERROR(IF(VLOOKUP(FU$1,$A$7:$C$26,3,0),VLOOKUP($U4,INDIRECT("'"&SUBSTITUTE(VLOOKUP(FU$1,$A$7:$C$26,2,0),"Saison","Stats",1)&"'!$A:$J"),FU$2,0),""),"") | FV4: =IFERROR(IF(VLOOKUP(FV$1,$A$7:$C$26,3,0),VLOOKUP($U4,INDIRECT("'"&SUBSTITUTE(VLOOKUP(FV$1,$A$7:$C$26,2,0),"Saison","Stats",1)&"'!$A:$J"),FV$2,0),""),"") | FW4: =IFERROR(IF(VLOOKUP(FW$1,$A$7:$C$26,3,0),VLOOKUP($U4,INDIRECT("'"&SUBSTITUTE(VLOOKUP(FW$1,$A$7:$C$26,2,0),"Saison","Stats",1)&"'!$A:$J"),FW$2,0),""),"") | FX4: =IFERROR(IF(VLOOKUP(FX$1,$A$7:$C$26,3,0),VLOOKUP($U4,INDIRECT("'"&SUBSTITUTE(VLOOKUP(FX$1,$A$7:$C$26,2,0),"Saison","Stats",1)&"'!$A:$J"),FX$2,0),""),"") | FY4: =IFERROR(IF(VLOOKUP(FY$1,$A$7:$C$26,3,0),VLOOKUP($U4,INDIRECT("'"&SUBSTITUTE(VLOOKUP(FY$1,$A$7:$C$26,2,0),"Saison","Stats",1)&"'!$A:$J"),FY$2,0),""),"") | FZ4: =IFERROR(IF(VLOOKUP(FZ$1,$A$7:$C$26,3,0),VLOOKUP($U4,INDIRECT("'"&SUBSTITUTE(VLOOKUP(FZ$1,$A$7:$C$26,2,0),"Saison","Stats",1)&"'!$A:$J"),FZ$2,0),""),"") | GA4: =IFERROR(IF(VLOOKUP(GA$1,$A$7:$C$26,3,0),VLOOKUP($U4,INDIRECT("'"&SUBSTITUTE(VLOOKUP(GA$1,$A$7:$C$26,2,0),"Saison","Stats",1)&"'!$A:$J"),GA$2,0),""),"") | GB4: =IFERROR(IF(VLOOKUP(GB$1,$A$7:$C$26,3,0),IF(ISNUMBER(FS4),SUMIFS('Stats Coachs'!$F$3:$F$29,'Stats Coachs'!$C$3:$C$29,VLOOKUP(GB$1,$A$7:$B$26,2,0)),""),""),"") | GC4: =IFERROR(IF(VLOOKUP(GC$1,$A$7:$C$26,3,0),VLOOKUP($U4,INDIRECT("'"&SUBSTITUTE(VLOOKUP(GC$1,$A$7:$C$26,2,0),"Saison","Stats",1)&"'!$A:$J"),GC$2,0),""),"") | GD4: =IFERROR(IF(VLOOKUP(GD$1,$A$7:$C$26,3,0),VLOOKUP($U4,INDIRECT("'"&SUBSTITUTE(VLOOKUP(GD$1,$A$7:$C$26,2,0),"Saison","Stats",1)&"'!$A:$J"),GD$2,0),""),"") | GE4: =IFERROR(IF(VLOOKUP(GE$1,$A$7:$C$26,3,0),VLOOKUP($U4,INDIRECT("'"&SUBSTITUTE(VLOOKUP(GE$1,$A$7:$C$26,2,0),"Saison","Stats",1)&"'!$A:$J"),GE$2,0),""),"") | GF4: =IFERROR(IF(VLOOKUP(GF$1,$A$7:$C$26,3,0),VLOOKUP($U4,INDIRECT("'"&SUBSTITUTE(VLOOKUP(GF$1,$A$7:$C$26,2,0),"Saison","Stats",1)&"'!$A:$J"),GF$2,0),""),"") | GG4: =IFERROR(IF(VLOOKUP(GG$1,$A$7:$C$26,3,0),VLOOKUP($U4,INDIRECT("'"&SUBSTITUTE(VLOOKUP(GG$1,$A$7:$C$26,2,0),"Saison","Stats",1)&"'!$A:$J"),GG$2,0),""),"") | GH4: =IFERROR(IF(VLOOKUP(GH$1,$A$7:$C$26,3,0),VLOOKUP($U4,INDIRECT("'"&SUBSTITUTE(VLOOKUP(GH$1,$A$7:$C$26,2,0),"Saison","Stats",1)&"'!$A:$J"),GH$2,0),""),"") | GI4: =IFERROR(IF(VLOOKUP(GI$1,$A$7:$C$26,3,0),VLOOKUP($U4,INDIRECT("'"&SUBSTITUTE(VLOOKUP(GI$1,$A$7:$C$26,2,0),"Saison","Stats",1)&"'!$A:$J"),GI$2,0),""),"") | GJ4: =IFERROR(IF(VLOOKUP(GJ$1,$A$7:$C$26,3,0),VLOOKUP($U4,INDIRECT("'"&SUBSTITUTE(VLOOKUP(GJ$1,$A$7:$C$26,2,0),"Saison","Stats",1)&"'!$A:$J"),GJ$2,0),""),"") | GK4: =IFERROR(IF(VLOOKUP(GK$1,$A$7:$C$26,3,0),VLOOKUP($U4,INDIRECT("'"&SUBSTITUTE(VLOOKUP(GK$1,$A$7:$C$26,2,0),"Saison","Stats",1)&"'!$A:$J"),GK$2,0),""),"") | GL4: =IFERROR(IF(VLOOKUP(GL$1,$A$7:$C$26,3,0),IF(ISNUMBER(GC4),SUMIFS('Stats Coachs'!$F$3:$F$29,'Stats Coachs'!$C$3:$C$29,VLOOKUP(GL$1,$A$7:$B$26,2,0)),""),""),"") | GM4: =IFERROR(IF(VLOOKUP(GM$1,$A$7:$C$26,3,0),VLOOKUP($U4,INDIRECT("'"&SUBSTITUTE(VLOOKUP(GM$1,$A$7:$C$26,2,0),"Saison","Stats",1)&"'!$A:$J"),GM$2,0),""),"") | GN4: =IFERROR(IF(VLOOKUP(GN$1,$A$7:$C$26,3,0),VLOOKUP($U4,INDIRECT("'"&SUBSTITUTE(VLOOKUP(GN$1,$A$7:$C$26,2,0),"Saison","Stats",1)&"'!$A:$J"),GN$2,0),""),"") | GO4: =IFERROR(IF(VLOOKUP(GO$1,$A$7:$C$26,3,0),VLOOKUP($U4,INDIRECT("'"&SUBSTITUTE(VLOOKUP(GO$1,$A$7:$C$26,2,0),"Saison","Stats",1)&"'!$A:$J"),GO$2,0),""),"") | GP4: =IFERROR(IF(VLOOKUP(GP$1,$A$7:$C$26,3,0),VLOOKUP($U4,INDIRECT("'"&SUBSTITUTE(VLOOKUP(GP$1,$A$7:$C$26,2,0),"Saison","Stats",1)&"'!$A:$J"),GP$2,0),""),"") | GQ4: =IFERROR(IF(VLOOKUP(GQ$1,$A$7:$C$26,3,0),VLOOKUP($U4,INDIRECT("'"&SUBSTITUTE(VLOOKUP(GQ$1,$A$7:$C$26,2,0),"Saison","Stats",1)&"'!$A:$J"),GQ$2,0),""),"") | GR4: =IFERROR(IF(VLOOKUP(GR$1,$A$7:$C$26,3,0),VLOOKUP($U4,INDIRECT("'"&SUBSTITUTE(VLOOKUP(GR$1,$A$7:$C$26,2,0),"Saison","Stats",1)&"'!$A:$J"),GR$2,0),""),"") | GS4: =IFERROR(IF(VLOOKUP(GS$1,$A$7:$C$26,3,0),VLOOKUP($U4,INDIRECT("'"&SUBSTITUTE(VLOOKUP(GS$1,$A$7:$C$26,2,0),"Saison","Stats",1)&"'!$A:$J"),GS$2,0),""),"") | GT4: =IFERROR(IF(VLOOKUP(GT$1,$A$7:$C$26,3,0),VLOOKUP($U4,INDIRECT("'"&SUBSTITUTE(VLOOKUP(GT$1,$A$7:$C$26,2,0),"Saison","Stats",1)&"'!$A:$J"),GT$2,0),""),"") | GU4: =IFERROR(IF(VLOOKUP(GU$1,$A$7:$C$26,3,0),VLOOKUP($U4,INDIRECT("'"&SUBSTITUTE(VLOOKUP(GU$1,$A$7:$C$26,2,0),"Saison","Stats",1)&"'!$A:$J"),GU$2,0),""),"") | GV4: =IFERROR(IF(VLOOKUP(GV$1,$A$7:$C$26,3,0),IF(ISNUMBER(GM4),SUMIFS('Stats Coachs'!$F$3:$F$29,'Stats Coachs'!$C$3:$C$29,VLOOKUP(GV$1,$A$7:$B$26,2,0)),""),""),"") | GW4: =IFERROR(IF(VLOOKUP(GW$1,$A$7:$C$26,3,0),VLOOKUP($U4,INDIRECT("'"&SUBSTITUTE(VLOOKUP(GW$1,$A$7:$C$26,2,0),"Saison","Stats",1)&"'!$A:$J"),GW$2,0),""),"") | GX4: =IFERROR(IF(VLOOKUP(GX$1,$A$7:$C$26,3,0),VLOOKUP($U4,INDIRECT("'"&SUBSTITUTE(VLOOKUP(GX$1,$A$7:$C$26,2,0),"Saison","Stats",1)&"'!$A:$J"),GX$2,0),""),"") | GY4: =IFERROR(IF(VLOOKUP(GY$1,$A$7:$C$26,3,0),VLOOKUP($U4,INDIRECT("'"&SUBSTITUTE(VLOOKUP(GY$1,$A$7:$C$26,2,0),"Saison","Stats",1)&"'!$A:$J"),GY$2,0),""),"") | GZ4: =IFERROR(IF(VLOOKUP(GZ$1,$A$7:$C$26,3,0),VLOOKUP($U4,INDIRECT("'"&SUBSTITUTE(VLOOKUP(GZ$1,$A$7:$C$26,2,0),"Saison","Stats",1)&"'!$A:$J"),GZ$2,0),""),"") | HA4: =IFERROR(IF(VLOOKUP(HA$1,$A$7:$C$26,3,0),VLOOKUP($U4,INDIRECT("'"&SUBSTITUTE(VLOOKUP(HA$1,$A$7:$C$26,2,0),"Saison","Stats",1)&"'!$A:$J"),HA$2,0),""),"") | HB4: =IFERROR(IF(VLOOKUP(HB$1,$A$7:$C$26,3,0),VLOOKUP($U4,INDIRECT("'"&SUBSTITUTE(VLOOKUP(HB$1,$A$7:$C$26,2,0),"Saison","Stats",1)&"'!$A:$J"),HB$2,0),""),"") | HC4: =IFERROR(IF(VLOOKUP(HC$1,$A$7:$C$26,3,0),VLOOKUP($U4,INDIRECT("'"&SUBSTITUTE(VLOOKUP(HC$1,$A$7:$C$26,2,0),"Saison","Stats",1)&"'!$A:$J"),HC$2,0),""),"") | HD4: =IFERROR(IF(VLOOKUP(HD$1,$A$7:$C$26,3,0),VLOOKUP($U4,INDIRECT("'"&SUBSTITUTE(VLOOKUP(HD$1,$A$7:$C$26,2,0),"Saison","Stats",1)&"'!$A:$J"),HD$2,0),""),"") | HE4: =IFERROR(IF(VLOOKUP(HE$1,$A$7:$C$26,3,0),VLOOKUP($U4,INDIRECT("'"&SUBSTITUTE(VLOOKUP(HE$1,$A$7:$C$26,2,0),"Saison","Stats",1)&"'!$A:$J"),HE$2,0),""),"") | HF4: =IFERROR(IF(VLOOKUP(HF$1,$A$7:$C$26,3,0),IF(ISNUMBER(GW4),SUMIFS('Stats Coachs'!$F$3:$F$29,'Stats Coachs'!$C$3:$C$29,VLOOKUP(HF$1,$A$7:$B$26,2,0)),""),""),"") | HG4: =IFERROR(IF(VLOOKUP(HG$1,$A$7:$C$26,3,0),VLOOKUP($U4,INDIRECT("'"&SUBSTITUTE(VLOOKUP(HG$1,$A$7:$C$26,2,0),"Saison","Stats",1)&"'!$A:$J"),HG$2,0),""),"") | HH4: =IFERROR(IF(VLOOKUP(HH$1,$A$7:$C$26,3,0),VLOOKUP($U4,INDIRECT("'"&SUBSTITUTE(VLOOKUP(HH$1,$A$7:$C$26,2,0),"Saison","Stats",1)&"'!$A:$J"),HH$2,0),""),"") | HI4: =IFERROR(IF(VLOOKUP(HI$1,$A$7:$C$26,3,0),VLOOKUP($U4,INDIRECT("'"&SUBSTITUTE(VLOOKUP(HI$1,$A$7:$C$26,2,0),"Saison","Stats",1)&"'!$A:$J"),HI$2,0),""),"") | HJ4: =IFERROR(IF(VLOOKUP(HJ$1,$A$7:$C$26,3,0),VLOOKUP($U4,INDIRECT("'"&SUBSTITUTE(VLOOKUP(HJ$1,$A$7:$C$26,2,0),"Saison","Stats",1)&"'!$A:$J"),HJ$2,0),""),"") | HK4: =IFERROR(IF(VLOOKUP(HK$1,$A$7:$C$26,3,0),VLOOKUP($U4,INDIRECT("'"&SUBSTITUTE(VLOOKUP(HK$1,$A$7:$C$26,2,0),"Saison","Stats",1)&"'!$A:$J"),HK$2,0),""),"") | HL4: =IFERROR(IF(VLOOKUP(HL$1,$A$7:$C$26,3,0),VLOOKUP($U4,INDIRECT("'"&SUBSTITUTE(VLOOKUP(HL$1,$A$7:$C$26,2,0),"Saison","Stats",1)&"'!$A:$J"),HL$2,0),""),"") | HM4: =IFERROR(IF(VLOOKUP(HM$1,$A$7:$C$26,3,0),VLOOKUP($U4,INDIRECT("'"&SUBSTITUTE(VLOOKUP(HM$1,$A$7:$C$26,2,0),"Saison","Stats",1)&"'!$A:$J"),HM$2,0),""),"") | HN4: =IFERROR(IF(VLOOKUP(HN$1,$A$7:$C$26,3,0),VLOOKUP($U4,INDIRECT("'"&SUBSTITUTE(VLOOKUP(HN$1,$A$7:$C$26,2,0),"Saison","Stats",1)&"'!$A:$J"),HN$2,0),""),"") | HO4: =IFERROR(IF(VLOOKUP(HO$1,$A$7:$C$26,3,0),VLOOKUP($U4,INDIRECT("'"&SUBSTITUTE(VLOOKUP(HO$1,$A$7:$C$26,2,0),"Saison","Stats",1)&"'!$A:$J"),HO$2,0),""),"") | HP4: =IFERROR(IF(VLOOKUP(HP$1,$A$7:$C$26,3,0),IF(ISNUMBER(HG4),SUMIFS('Stats Coachs'!$F$3:$F$29,'Stats Coachs'!$C$3:$C$29,VLOOKUP(HP$1,$A$7:$B$26,2,0)),""),""),"") | HQ4: =IFERROR(IF(VLOOKUP(HQ$1,$A$7:$C$26,3,0),VLOOKUP($U4,INDIRECT("'"&SUBSTITUTE(VLOOKUP(HQ$1,$A$7:$C$26,2,0),"Saison","Stats",1)&"'!$A:$J"),HQ$2,0),""),"") | HR4: =IFERROR(IF(VLOOKUP(HR$1,$A$7:$C$26,3,0),VLOOKUP($U4,INDIRECT("'"&SUBSTITUTE(VLOOKUP(HR$1,$A$7:$C$26,2,0),"Saison","Stats",1)&"'!$A:$J"),HR$2,0),""),"") | HS4: =IFERROR(IF(VLOOKUP(HS$1,$A$7:$C$26,3,0),VLOOKUP($U4,INDIRECT("'"&SUBSTITUTE(VLOOKUP(HS$1,$A$7:$C$26,2,0),"Saison","Stats",1)&"'!$A:$J"),HS$2,0),""),"") | HT4: =IFERROR(IF(VLOOKUP(HT$1,$A$7:$C$26,3,0),VLOOKUP($U4,INDIRECT("'"&SUBSTITUTE(VLOOKUP(HT$1,$A$7:$C$26,2,0),"Saison","Stats",1)&"'!$A:$J"),HT$2,0),""),"") | HU4: =IFERROR(IF(VLOOKUP(HU$1,$A$7:$C$26,3,0),VLOOKUP($U4,INDIRECT("'"&SUBSTITUTE(VLOOKUP(HU$1,$A$7:$C$26,2,0),"Saison","Stats",1)&"'!$A:$J"),HU$2,0),""),"") | HV4: =IFERROR(IF(VLOOKUP(HV$1,$A$7:$C$26,3,0),VLOOKUP($U4,INDIRECT("'"&SUBSTITUTE(VLOOKUP(HV$1,$A$7:$C$26,2,0),"Saison","Stats",1)&"'!$A:$J"),HV$2,0),""),"") | HW4: =IFERROR(IF(VLOOKUP(HW$1,$A$7:$C$26,3,0),VLOOKUP($U4,INDIRECT("'"&SUBSTITUTE(VLOOKUP(HW$1,$A$7:$C$26,2,0),"Saison","Stats",1)&"'!$A:$J"),HW$2,0),""),"") | HX4: =IFERROR(IF(VLOOKUP(HX$1,$A$7:$C$26,3,0),VLOOKUP($U4,INDIRECT("'"&SUBSTITUTE(VLOOKUP(HX$1,$A$7:$C$26,2,0),"Saison","Stats",1)&"'!$A:$J"),HX$2,0),""),"") | HY4: =IFERROR(IF(VLOOKUP(HY$1,$A$7:$C$26,3,0),VLOOKUP($U4,INDIRECT("'"&SUBSTITUTE(VLOOKUP(HY$1,$A$7:$C$26,2,0),"Saison","Stats",1)&"'!$A:$J"),HY$2,0),""),"") | HZ4: =IFERROR(IF(VLOOKUP(HZ$1,$A$7:$C$26,3,0),IF(ISNUMBER(HQ4),SUMIFS('Stats Coachs'!$F$3:$F$29,'Stats Coachs'!$C$3:$C$29,VLOOKUP(HZ$1,$A$7:$B$26,2,0)),""),""),"") | IA4: =IFERROR(IF(VLOOKUP(IA$1,$A$7:$C$26,3,0),VLOOKUP($U4,INDIRECT("'"&SUBSTITUTE(VLOOKUP(IA$1,$A$7:$C$26,2,0),"Saison","Stats",1)&"'!$A:$J"),IA$2,0),""),"") | IB4: =IFERROR(IF(VLOOKUP(IB$1,$A$7:$C$26,3,0),VLOOKUP($U4,INDIRECT("'"&SUBSTITUTE(VLOOKUP(IB$1,$A$7:$C$26,2,0),"Saison","Stats",1)&"'!$A:$J"),IB$2,0),""),"") | IC4: =IFERROR(IF(VLOOKUP(IC$1,$A$7:$C$26,3,0),VLOOKUP($U4,INDIRECT("'"&SUBSTITUTE(VLOOKUP(IC$1,$A$7:$C$26,2,0),"Saison","Stats",1)&"'!$A:$J"),IC$2,0),""),"") | ID4: =IFERROR(IF(VLOOKUP(ID$1,$A$7:$C$26,3,0),VLOOKUP($U4,INDIRECT("'"&SUBSTITUTE(VLOOKUP(ID$1,$A$7:$C$26,2,0),"Saison","Stats",1)&"'!$A:$J"),ID$2,0),""),"") | IE4: =IFERROR(IF(VLOOKUP(IE$1,$A$7:$C$26,3,0),VLOOKUP($U4,INDIRECT("'"&SUBSTITUTE(VLOOKUP(IE$1,$A$7:$C$26,2,0),"Saison","Stats",1)&"'!$A:$J"),IE$2,0),""),"") | IF4: =IFERROR(IF(VLOOKUP(IF$1,$A$7:$C$26,3,0),VLOOKUP($U4,INDIRECT("'"&SUBSTITUTE(VLOOKUP(IF$1,$A$7:$C$26,2,0),"Saison","Stats",1)&"'!$A:$J"),IF$2,0),""),"") | IG4: =IFERROR(IF(VLOOKUP(IG$1,$A$7:$C$26,3,0),VLOOKUP($U4,INDIRECT("'"&SUBSTITUTE(VLOOKUP(IG$1,$A$7:$C$26,2,0),"Saison","Stats",1)&"'!$A:$J"),IG$2,0),""),"") | IH4: =IFERROR(IF(VLOOKUP(IH$1,$A$7:$C$26,3,0),VLOOKUP($U4,INDIRECT("'"&SUBSTITUTE(VLOOKUP(IH$1,$A$7:$C$26,2,0),"Saison","Stats",1)&"'!$A:$J"),IH$2,0),""),"") | II4: =IFERROR(IF(VLOOKUP(II$1,$A$7:$C$26,3,0),VLOOKUP($U4,INDIRECT("'"&SUBSTITUTE(VLOOKUP(II$1,$A$7:$C$26,2,0),"Saison","Stats",1)&"'!$A:$J"),II$2,0),""),"") | IJ4: =IFERROR(IF(VLOOKUP(IJ$1,$A$7:$C$26,3,0),IF(ISNUMBER(IA4),SUMIFS('Stats Coachs'!$F$3:$F$29,'Stats Coachs'!$C$3:$C$29,VLOOKUP(IJ$1,$A$7:$B$26,2,0)),""),""),"")
